Workbook

Sheet к заполнению
A1: Форма для предоставления сведений в Минстрой России
A3: Информация о деятельности органов государственного жилищного надзора
A4: Дополнительные сведения о форме доступны по адресу:
A5: https://tm.minstroyrf.gov.ru/board/ja1pe3a7e5ij
A7: ВАЖНО! Для успешного заполнения формы необходимо: 1. Заполнить все ячейки, отмеченные оранжевым цветом (это ячейки, обязательные к заполнению) 2. При необходимости, заполнить ячейки, отмеченные желтым цветом 3. Убедиться, что на форме отсутсвуют ошибки (в поле ниже указано "Ошибки формы не выявлены, возможна загрузка заполненной формы в ГИС Стройкомплекс.РФ"). Если в поле ниже указано "(!!!) На форме имеются ошибки, требуется их устранение перед отправкой" необходимо скорректирвоать форму. 4. Для корретной работы формы необходимо использовать ПО Р7 Офис / MS Excel последних актуальныхй версий. При работе с формой необходимо включить автоматический пересчет формул (зачастую он уже включен)
A9: =IF(DD9>0,"(!!!) На форме имеются ошибки, требуется их устранение перед отправкой","Ошибки формы не выявлены, возможна загрузка заполненной формы в ГИС Стройкомплекс.РФ") -> Ошибки формы не выявлены, возможна загрузка заполненной формы в ГИС Стройкомплекс.РФ | DD9: =SUM(DD10:DE203) -> 0
A11: Период, за который предоставляется отчет | B11: 2026 год, 3 квартал | DD11: =IFERROR(MATCH(B11,Справочник!A:A,0)*0,1) -> 0
A12: Комментарий к заполненной форме (при необходимости)
A14: Наименование показателя | B14: Единица измерения | C14: Фактическое значение
A15: Отчет деятельности ОГЖН
A16: Нормативная численность работников ГЖИ | B16: единиц | C16: 94 | DD16: =IFERROR(IF(ISBLANK(C16),1,0)+IF(AND(C16>=0,C16<100000),0,1),1) -> 0
A17: Фактическая численность работников ГЖИ
A18: Всего | B18: единиц | C18: 94 | DD18: =IFERROR(IF(ISBLANK(C18),1,0)+IF(AND(C18>=0,C18<100000),0,1),1) -> 0
A19: Из них инспекторов | B19: единиц | C19: 76 | DD19: =IFERROR(IF(ISBLANK(C19),1,0)+IF(AND(C19>=0,C19<100000),0,1),1) -> 0
A20: Площадь жилищного фонда субъекта РФ | B20: тыс. кв. м | C20: 70500 | DD20: =IFERROR(IF(ISBLANK(C20),1,0)+IF(AND(C20>=0,C20<100000000),0,1),1) -> 0
A21: Количество многоквартирных домов, расположенных на территории субъекта РФ | B21: единиц | C21: 15564 | DD21: =IFERROR(IF(ISBLANK(C21),1,0)+IF(AND(C21>=0,C21<100000),0,1),1) -> 0
A22: Количество обследованных жилых домов (за отчетный период) | B22: единиц | C22: 5536 | DD22: =IFERROR(IF(ISBLANK(C22),1,0)+IF(AND(C22>=0,C22<100000),0,1),1) -> 0
A23: Общая площадь обследованных жилых домов (за отчетный период) | B23: тыс. кв. м | C23: 11078 | DD23: =IFERROR(IF(ISBLANK(C23),1,0)+IF(AND(C23>=0,C23<100000000),0,1),1) -> 0
A24: Количество управляющих организаций, товариществ собственников жилья, жилищных кооперативов, осуществляющих деятельность по управлению МКД на территории субъекта РФ
A25: Всего | B25: единиц | C25: =SUM(C26,C27) -> 654 | DD25: =IFERROR(IF(ISBLANK(C25),1,0)+IF(AND(C25>=0,C25<100000),0,1),1) -> 0
A26: Количество управляющих организаций | B26: единиц | C26: 286 | DD26: =IFERROR(IF(ISBLANK(C26),1,0)+IF(AND(C26>=0,C26<100000),0,1),1) -> 0
A27: Товариществ собственников жилья, жилищных кооперативов, осуществляющих деятельность по управлению МКД на территории субъекта РФ | B27: единиц | C27: 368 | DD27: =IFERROR(IF(ISBLANK(C27),1,0)+IF(AND(C27>=0,C27<100000),0,1),1) -> 0
A28: Количество представлений, внесенных органу государственного жилищного надзора в ходе прокурорской проверки
A29: Всего | B29: единиц | C29: 0 | DD29: =IFERROR(IF(ISBLANK(C29),1,0)+IF(AND(C29>=0,C29<100000),0,1),1) -> 0
A30: Количество представлений, по результатам рассмотрения которых должностные лица органа государственного жилищного надзора (контроля) привлечены к дисциплинарной ответственности (за отчетный период) | B30: единиц | C30: 0 | DD30: =IFERROR(IF(ISBLANK(C30),1,0)+IF(AND(C30>=0,C30<100000),0,1),1) -> 0
A31: Отчет по жилищному надзору и лицензионному контролю
A32: Тематика и количество поступивших обращений за отчетный период, в том числе количество обращений граждан и юр. лиц по подготовке жилищного фонда к ОЗП
C33: Отчет по лицензионному контролю | D33: Отчет по жилищному надзору
A34: Количество поступивших обращений за отчетный период, из них: | B34: единиц | C34: =SUM(C35,C36,C38,C39,C40,C41,C42,C43) -> 5766 | D34: =SUM(D35,D36,D38,D39,D40,D41,D42,D43) -> 1080 | DD34: =IFERROR(IF(ISBLANK(C34),1,0)+IF(AND(C34>=0,C34<100000),0,1),1) -> 0 | DE34: =IFERROR(IF(ISBLANK(D34),1,0)+IF(AND(D34>=0,D34<100000),0,1),1) -> 0
A35: по вопросам нарушения правил и норм технической эксплуатации жилищного фонда | B35: единиц | C35: 4285 | D35: 427 | DD35: =IFERROR(IF(ISBLANK(C35),1,0)+IF(AND(C35>=0,C35<100000),0,1),1) -> 0 | DE35: =IFERROR(IF(ISBLANK(D35),1,0)+IF(AND(D35>=0,D35<100000),0,1),1) -> 0
A36: по вопросам некачественного предоставления населению коммунальных услуг | B36: единиц | C36: 577 | D36: 204 | DD36: =IFERROR(IF(ISBLANK(C36),1,0)+IF(AND(C36>=0,C36<100000),0,1),1) -> 0 | DE36: =IFERROR(IF(ISBLANK(D36),1,0)+IF(AND(D36>=0,D36<100000),0,1),1) -> 0
A37: в том числе в связи с нарушением качества предоставления коммунальной услуги по горячему водоснабжению (не входит в общую сумму поступивших обращений) | B37: единиц | C37: 124 | D37: 28 | DD37: =IFERROR(IF(ISBLANK(C37),1,0)+IF(AND(C37>=0,C37<100000),0,1),1) -> 0 | DE37: =IFERROR(IF(ISBLANK(D37),1,0)+IF(AND(D37>=0,D37<100000),0,1),1) -> 0
A38: по вопросам нарушения требований законодательства о раскрытии информации | B38: единиц | C38: 205 | D38: 114 | DD38: =IFERROR(IF(ISBLANK(C38),1,0)+IF(AND(C38>=0,C38<100000),0,1),1) -> 0 | DE38: =IFERROR(IF(ISBLANK(D38),1,0)+IF(AND(D38>=0,D38<100000),0,1),1) -> 0
A39: по вопросам нарушения порядка расчета внесения платы за жилищно-коммунальные услуги | B39: единиц | C39: 670 | D39: 113 | DD39: =IFERROR(IF(ISBLANK(C39),1,0)+IF(AND(C39>=0,C39<100000),0,1),1) -> 0 | DE39: =IFERROR(IF(ISBLANK(D39),1,0)+IF(AND(D39>=0,D39<100000),0,1),1) -> 0
A40: по вопросам нарушения правил технической эксплуатации внутридомового газового оборудования | B40: единиц | C40: 5 | D40: 23 | DD40: =IFERROR(IF(ISBLANK(C40),1,0)+IF(AND(C40>=0,C40<100000),0,1),1) -> 0 | DE40: =IFERROR(IF(ISBLANK(D40),1,0)+IF(AND(D40>=0,D40<100000),0,1),1) -> 0
A41: по вопросам нарушения правил управления многоквартирными домами | B41: единиц | C41: 1 | D41: 0 | DD41: =IFERROR(IF(ISBLANK(C41),1,0)+IF(AND(C41>=0,C41<100000),0,1),1) -> 0 | DE41: =IFERROR(IF(ISBLANK(D41),1,0)+IF(AND(D41>=0,D41<100000),0,1),1) -> 0
A42: по вопросам подготовки и прохождения отопительного периода | B42: единиц | C42: 0 | D42: 0 | DD42: =IFERROR(IF(ISBLANK(C42),1,0)+IF(AND(C42>=0,C42<100000),0,1),1) -> 0 | DE42: =IFERROR(IF(ISBLANK(D42),1,0)+IF(AND(D42>=0,D42<100000),0,1),1) -> 0
A43: прочие вопросы | B43: единиц | C43: 23 | D43: 199 | DD43: =IFERROR(IF(ISBLANK(C43),1,0)+IF(AND(C43>=0,C43<100000),0,1),1) -> 0 | DE43: =IFERROR(IF(ISBLANK(D43),1,0)+IF(AND(D43>=0,D43<100000),0,1),1) -> 0
A44: Количество проведенных проверок КНМ, в рамках жилищного надзора и лицензионного контроля за отчетный период
C45: Отчет по лицензионному контролю | D45: Отчет по жилищному надзору
A46: Всего | B46: единиц | C46: =SUM(C47,C51) -> 226 | D46: =SUM(D47,D51) -> 94 | DD46: =IFERROR(IF(ISBLANK(C46),1,0)+IF(AND(C46>=0,C46<100000),0,1),1) -> 0 | DE46: =IFERROR(IF(ISBLANK(D46),1,0)+IF(AND(D46>=0,D46<100000),0,1),1) -> 0
A47: Плановых, из них: | B47: единиц | C47: =SUM(C48,C49,C50) -> 0 | D47: =SUM(D48,D49,D50) -> 0 | DD47: =IFERROR(IF(ISBLANK(C47),1,0)+IF(AND(C47>=0,C47<100000),0,1),1) -> 0 | DE47: =IFERROR(IF(ISBLANK(D47),1,0)+IF(AND(D47>=0,D47<100000),0,1),1) -> 0
A48: Документарные | B48: единиц | C48: 0 | D48: 0 | DD48: =IFERROR(IF(ISBLANK(C48),1,0)+IF(AND(C48>=0,C48<100000),0,1),1) -> 0 | DE48: =IFERROR(IF(ISBLANK(D48),1,0)+IF(AND(D48>=0,D48<100000),0,1),1) -> 0
A49: Выездные | B49: единиц | C49: 0 | D49: 0 | DD49: =IFERROR(IF(ISBLANK(C49),1,0)+IF(AND(C49>=0,C49<100000),0,1),1) -> 0 | DE49: =IFERROR(IF(ISBLANK(D49),1,0)+IF(AND(D49>=0,D49<100000),0,1),1) -> 0
A50: инспекционный визит | B50: единиц | C50: 0 | D50: 0 | DD50: =IFERROR(IF(ISBLANK(C50),1,0)+IF(AND(C50>=0,C50<100000),0,1),1) -> 0 | DE50: =IFERROR(IF(ISBLANK(D50),1,0)+IF(AND(D50>=0,D50<100000),0,1),1) -> 0
A51: Внеплановых, из них: | B51: единиц | C51: =SUM(C52,C53,C54) -> 226 | D51: =SUM(D52,D53,D54) -> 94 | DD51: =IFERROR(IF(ISBLANK(C51),1,0)+IF(AND(C51>=0,C51<100000),0,1),1) -> 0 | DE51: =IFERROR(IF(ISBLANK(D51),1,0)+IF(AND(D51>=0,D51<100000),0,1),1) -> 0
A52: Документарные | B52: единиц | C52: 12 | D52: 14 | DD52: =IFERROR(IF(ISBLANK(C52),1,0)+IF(AND(C52>=0,C52<100000),0,1),1) -> 0 | DE52: =IFERROR(IF(ISBLANK(D52),1,0)+IF(AND(D52>=0,D52<100000),0,1),1) -> 0
A53: Выездные | B53: единиц | C53: 12 | D53: 5 | DD53: =IFERROR(IF(ISBLANK(C53),1,0)+IF(AND(C53>=0,C53<100000),0,1),1) -> 0 | DE53: =IFERROR(IF(ISBLANK(D53),1,0)+IF(AND(D53>=0,D53<100000),0,1),1) -> 0
A54: инспекционный визит | B54: единиц | C54: 202 | D54: 75 | DD54: =IFERROR(IF(ISBLANK(C54),1,0)+IF(AND(C54>=0,C54<100000),0,1),1) -> 0 | DE54: =IFERROR(IF(ISBLANK(D54),1,0)+IF(AND(D54>=0,D54<100000),0,1),1) -> 0
A55: Количество проведенных профилактические мероприятия в рамках жилищного надзора и лицензионного контроля за отчетный период, из них
C56: Отчет по лицензионному контролю | D56: Отчет по жилищному надзору
A57: информирование | B57: единиц | C57: 368 | D57: 330 | DD57: =IFERROR(IF(ISBLANK(C57),1,0)+IF(AND(C57>=0,C57<100000),0,1),1) -> 0 | DE57: =IFERROR(IF(ISBLANK(D57),1,0)+IF(AND(D57>=0,D57<100000),0,1),1) -> 0
A58: обобщение правоприменительной практики; | B58: единиц | C58: 0 | D58: 0 | DD58: =IFERROR(IF(ISBLANK(C58),1,0)+IF(AND(C58>=0,C58<100000),0,1),1) -> 0 | DE58: =IFERROR(IF(ISBLANK(D58),1,0)+IF(AND(D58>=0,D58<100000),0,1),1) -> 0
A59: объявление предостережения | B59: единиц | C59: 679 | D59: 344 | DD59: =IFERROR(IF(ISBLANK(C59),1,0)+IF(AND(C59>=0,C59<100000),0,1),1) -> 0 | DE59: =IFERROR(IF(ISBLANK(D59),1,0)+IF(AND(D59>=0,D59<100000),0,1),1) -> 0
A60: консультирование | B60: единиц | C60: 272 | D60: 30 | DD60: =IFERROR(IF(ISBLANK(C60),1,0)+IF(AND(C60>=0,C60<100000),0,1),1) -> 0 | DE60: =IFERROR(IF(ISBLANK(D60),1,0)+IF(AND(D60>=0,D60<100000),0,1),1) -> 0
A61: профилактический визит | B61: единиц | C61: 1 | D61: 0 | DD61: =IFERROR(IF(ISBLANK(C61),1,0)+IF(AND(C61>=0,C61<100000),0,1),1) -> 0 | DE61: =IFERROR(IF(ISBLANK(D61),1,0)+IF(AND(D61>=0,D61<100000),0,1),1) -> 0
A62: обязательный профилактический визит | B62: единиц | C62: 0 | D62: 0 | DD62: =IFERROR(IF(ISBLANK(C62),1,0)+IF(AND(C62>=0,C62<100000),0,1),1) -> 0 | DE62: =IFERROR(IF(ISBLANK(D62),1,0)+IF(AND(D62>=0,D62<100000),0,1),1) -> 0
A63: Количество выявленных нарушений (за отчетный период)
C64: Отчет по лицензионному контролю | D64: Отчет по жилищному надзору
A65: Всего | B65: единиц | C65: =SUM(C66,C67,C68,C69,C70,C71,C72,C73,C74,C75,C76,) -> 486 | D65: =SUM(D66,D67,D68,D69,D70,D71,D72,D73,D74,D75,D76,) -> 160 | DD65: =IFERROR(IF(ISBLANK(C65),1,0)+IF(AND(C65>=0,C65<100000),0,1),1) -> 0 | DE65: =IFERROR(IF(ISBLANK(D65),1,0)+IF(AND(D65>=0,D65<100000),0,1),1) -> 0
A66: Правил и норм технической эксплуатации жилищного фонда | B66: единиц | C66: 306 | D66: 29 | DD66: =IFERROR(IF(ISBLANK(C66),1,0)+IF(AND(C66>=0,C66<100000),0,1),1) -> 0 | DE66: =IFERROR(IF(ISBLANK(D66),1,0)+IF(AND(D66>=0,D66<100000),0,1),1) -> 0
A67: Некачественное предоставление населению коммунальных услуг | B67: единиц | C67: 4 | D67: 33 | DD67: =IFERROR(IF(ISBLANK(C67),1,0)+IF(AND(C67>=0,C67<100000),0,1),1) -> 0 | DE67: =IFERROR(IF(ISBLANK(D67),1,0)+IF(AND(D67>=0,D67<100000),0,1),1) -> 0
A68: Требований законодательства о раскрытии информации | B68: единиц | C68: 113 | D68: 30 | DD68: =IFERROR(IF(ISBLANK(C68),1,0)+IF(AND(C68>=0,C68<100000),0,1),1) -> 0 | DE68: =IFERROR(IF(ISBLANK(D68),1,0)+IF(AND(D68>=0,D68<100000),0,1),1) -> 0
A69: Порядка расчета внесения платы за жилищно-коммунальные услуги | B69: единиц | C69: 6 | D69: 4 | DD69: =IFERROR(IF(ISBLANK(C69),1,0)+IF(AND(C69>=0,C69<100000),0,1),1) -> 0 | DE69: =IFERROR(IF(ISBLANK(D69),1,0)+IF(AND(D69>=0,D69<100000),0,1),1) -> 0
A70: Правил технической эксплуатации внутридомового газового оборудования | B70: единиц | C70: 0 | D70: 0 | DD70: =IFERROR(IF(ISBLANK(C70),1,0)+IF(AND(C70>=0,C70<100000),0,1),1) -> 0 | DE70: =IFERROR(IF(ISBLANK(D70),1,0)+IF(AND(D70>=0,D70<100000),0,1),1) -> 0
A71: Правил пользования помещениями | B71: единиц | C71: 0 | D71: 9 | DD71: =IFERROR(IF(ISBLANK(C71),1,0)+IF(AND(C71>=0,C71<100000),0,1),1) -> 0 | DE71: =IFERROR(IF(ISBLANK(D71),1,0)+IF(AND(D71>=0,D71<100000),0,1),1) -> 0
A72: Правил управления многоквартирными домами | B72: единиц | C72: 1 | D72: 0 | DD72: =IFERROR(IF(ISBLANK(C72),1,0)+IF(AND(C72>=0,C72<100000),0,1),1) -> 0 | DE72: =IFERROR(IF(ISBLANK(D72),1,0)+IF(AND(D72>=0,D72<100000),0,1),1) -> 0
A73: Неисполненных предписаний | B73: единиц | C73: 32 | D73: 18 | DD73: =IFERROR(IF(ISBLANK(C73),1,0)+IF(AND(C73>=0,C73<100000),0,1),1) -> 0 | DE73: =IFERROR(IF(ISBLANK(D73),1,0)+IF(AND(D73>=0,D73<100000),0,1),1) -> 0
A74: По факту выявления грубых нарушений | B74: единиц | C74: 0 | D74: 0 | DD74: =IFERROR(IF(ISBLANK(C74),1,0)+IF(AND(C74>=0,C74<100000),0,1),1) -> 0 | DE74: =IFERROR(IF(ISBLANK(D74),1,0)+IF(AND(D74>=0,D74<100000),0,1),1) -> 0
A75: По вопросам подготовки и прохождения отопительного периода | B75: единиц | C75: 0 | D75: 0 | DD75: =IFERROR(IF(ISBLANK(C75),1,0)+IF(AND(C75>=0,C75<100000),0,1),1) -> 0 | DE75: =IFERROR(IF(ISBLANK(D75),1,0)+IF(AND(D75>=0,D75<100000),0,1),1) -> 0
A76: Прочих нарушений | B76: единиц | C76: 24 | D76: 37 | DD76: =IFERROR(IF(ISBLANK(C76),1,0)+IF(AND(C76>=0,C76<100000),0,1),1) -> 0 | DE76: =IFERROR(IF(ISBLANK(D76),1,0)+IF(AND(D76>=0,D76<100000),0,1),1) -> 0
A77: Выдано исполнительных документов
A78: Тематика и количество выданных предписаний по результатам КНМ
C79: Отчет по лицензионному контролю | D79: Отчет по жилищному надзору
A80: Всего | B80: единиц | C80: =SUM(C81,C82,C84,C85,C86,C87,C88,C89,C90,C91,) -> 175 | D80: =SUM(D81,D82,D84,D85,D86,D87,D88,D89,D90,D91,) -> 73 | DD80: =IFERROR(IF(ISBLANK(C80),1,0)+IF(AND(C80>=0,C80<100000),0,1),1) -> 0 | DE80: =IFERROR(IF(ISBLANK(D80),1,0)+IF(AND(D80>=0,D80<100000),0,1),1) -> 0
A81: по факту нарушения правил и норм технической эксплуатации жилищного фонда | B81: единиц | C81: 145 | D81: 34 | DD81: =IFERROR(IF(ISBLANK(C81),1,0)+IF(AND(C81>=0,C81<100000),0,1),1) -> 0 | DE81: =IFERROR(IF(ISBLANK(D81),1,0)+IF(AND(D81>=0,D81<100000),0,1),1) -> 0
A82: по факту некачественного предоставления населению коммунальных услуг | B82: единиц | C82: 3 | D82: 20 | DD82: =IFERROR(IF(ISBLANK(C82),1,0)+IF(AND(C82>=0,C82<100000),0,1),1) -> 0 | DE82: =IFERROR(IF(ISBLANK(D82),1,0)+IF(AND(D82>=0,D82<100000),0,1),1) -> 0
A83: в том числе в связи с нарушением качества предоставления коммунальной услуги по горячему водоснабжению (не входит в сумму "Всего") | B83: единиц | C83: 2 | D83: 14 | DD83: =IFERROR(IF(ISBLANK(C83),1,0)+IF(AND(C83>=0,C83<100000),0,1),1) -> 0 | DE83: =IFERROR(IF(ISBLANK(D83),1,0)+IF(AND(D83>=0,D83<100000),0,1),1) -> 0
A84: по факту нарушения требований законодательства о раскрытии информации | B84: единиц | C84: 2 | D84: 7 | DD84: =IFERROR(IF(ISBLANK(C84),1,0)+IF(AND(C84>=0,C84<100000),0,1),1) -> 0 | DE84: =IFERROR(IF(ISBLANK(D84),1,0)+IF(AND(D84>=0,D84<100000),0,1),1) -> 0
A85: по факту нарушения порядка расчета внесения платы за жилищно-коммунальные услуги | B85: единиц | C85: 5 | D85: 0 | DD85: =IFERROR(IF(ISBLANK(C85),1,0)+IF(AND(C85>=0,C85<100000),0,1),1) -> 0 | DE85: =IFERROR(IF(ISBLANK(D85),1,0)+IF(AND(D85>=0,D85<100000),0,1),1) -> 0
A86: по факту нарушения правил технической эксплуатации внутридомового газового оборудования | B86: единиц | C86: 0 | D86: 0 | DD86: =IFERROR(IF(ISBLANK(C86),1,0)+IF(AND(C86>=0,C86<100000),0,1),1) -> 0 | DE86: =IFERROR(IF(ISBLANK(D86),1,0)+IF(AND(D86>=0,D86<100000),0,1),1) -> 0
A87: по факту нарушения правил управления многоквартирными домами | B87: единиц | C87: 0 | D87: 0 | DD87: =IFERROR(IF(ISBLANK(C87),1,0)+IF(AND(C87>=0,C87<100000),0,1),1) -> 0 | DE87: =IFERROR(IF(ISBLANK(D87),1,0)+IF(AND(D87>=0,D87<100000),0,1),1) -> 0
A88: по факту нарушения правил подготовки и прохождения отопительного периода | B88: единиц | C88: 0 | D88: 0 | DD88: =IFERROR(IF(ISBLANK(C88),1,0)+IF(AND(C88>=0,C88<100000),0,1),1) -> 0 | DE88: =IFERROR(IF(ISBLANK(D88),1,0)+IF(AND(D88>=0,D88<100000),0,1),1) -> 0
A89: по факту неисполнения ранее выданных предписаний | B89: единиц | C89: 20 | D89: 8 | DD89: =IFERROR(IF(ISBLANK(C89),1,0)+IF(AND(C89>=0,C89<100000),0,1),1) -> 0 | DE89: =IFERROR(IF(ISBLANK(D89),1,0)+IF(AND(D89>=0,D89<100000),0,1),1) -> 0
A90: по факту выявления грубых нарушений | B90: единиц | C90: 0 | D90: 0 | DD90: =IFERROR(IF(ISBLANK(C90),1,0)+IF(AND(C90>=0,C90<100000),0,1),1) -> 0 | DE90: =IFERROR(IF(ISBLANK(D90),1,0)+IF(AND(D90>=0,D90<100000),0,1),1) -> 0
A91: прочие нарушения | B91: единиц | C91: 0 | D91: 4 | DD91: =IFERROR(IF(ISBLANK(C91),1,0)+IF(AND(C91>=0,C91<100000),0,1),1) -> 0 | DE91: =IFERROR(IF(ISBLANK(D91),1,0)+IF(AND(D91>=0,D91<100000),0,1),1) -> 0
A92: Всего | B92: единиц | C92: =SUM(C93,C97) -> 175 | D92: =SUM(D93,D97) -> 73 | DD92: =IFERROR(IF(ISBLANK(C92),1,0)+IF(AND(C92>=0,C92<100000),0,1),1) -> 0 | DE92: =IFERROR(IF(ISBLANK(D92),1,0)+IF(AND(D92>=0,D92<100000),0,1),1) -> 0
A93: по результатам плановых КНМ, из них: | B93: единиц | C93: =SUM(C94,C95,C96) -> 0 | D93: =SUM(D94,D95,D96) -> 0 | DD93: =IFERROR(IF(ISBLANK(C93),1,0)+IF(AND(C93>=0,C93<100000),0,1),1) -> 0 | DE93: =IFERROR(IF(ISBLANK(D93),1,0)+IF(AND(D93>=0,D93<100000),0,1),1) -> 0
A94: документарных | B94: единиц | C94: 0 | D94: 0 | DD94: =IFERROR(IF(ISBLANK(C94),1,0)+IF(AND(C94>=0,C94<100000),0,1),1) -> 0 | DE94: =IFERROR(IF(ISBLANK(D94),1,0)+IF(AND(D94>=0,D94<100000),0,1),1) -> 0
A95: выездных | B95: единиц | C95: 0 | D95: 0 | DD95: =IFERROR(IF(ISBLANK(C95),1,0)+IF(AND(C95>=0,C95<100000),0,1),1) -> 0 | DE95: =IFERROR(IF(ISBLANK(D95),1,0)+IF(AND(D95>=0,D95<100000),0,1),1) -> 0
A96: инспекционных визитов | B96: единиц | C96: 0 | D96: 0 | DD96: =IFERROR(IF(ISBLANK(C96),1,0)+IF(AND(C96>=0,C96<100000),0,1),1) -> 0 | DE96: =IFERROR(IF(ISBLANK(D96),1,0)+IF(AND(D96>=0,D96<100000),0,1),1) -> 0
A97: по результатам внеплановых КНМ, из них: | B97: единиц | C97: =SUM(C98,C99,C100) -> 175 | D97: =SUM(D98,D99,D100) -> 73 | DD97: =IFERROR(IF(ISBLANK(C97),1,0)+IF(AND(C97>=0,C97<100000),0,1),1) -> 0 | DE97: =IFERROR(IF(ISBLANK(D97),1,0)+IF(AND(D97>=0,D97<100000),0,1),1) -> 0
A98: документарных | B98: единиц | C98: 7 | D98: 7 | DD98: =IFERROR(IF(ISBLANK(C98),1,0)+IF(AND(C98>=0,C98<100000),0,1),1) -> 0 | DE98: =IFERROR(IF(ISBLANK(D98),1,0)+IF(AND(D98>=0,D98<100000),0,1),1) -> 0
A99: выездных | B99: единиц | C99: 0 | D99: 0 | DD99: =IFERROR(IF(ISBLANK(C99),1,0)+IF(AND(C99>=0,C99<100000),0,1),1) -> 0 | DE99: =IFERROR(IF(ISBLANK(D99),1,0)+IF(AND(D99>=0,D99<100000),0,1),1) -> 0
A100: инспекционных визитов | B100: единиц | C100: 168 | D100: 66 | DD100: =IFERROR(IF(ISBLANK(C100),1,0)+IF(AND(C100>=0,C100<100000),0,1),1) -> 0 | DE100: =IFERROR(IF(ISBLANK(D100),1,0)+IF(AND(D100>=0,D100<100000),0,1),1) -> 0
A101: Административное производство
C102: Отчет по лицензионному контролю | D102: Отчет по жилищному надзору
A103: Всего составлено протоколов, из них: | B103: единиц | C103: =SUM(C104,C105,C106,C108,C109,C110,C111,C112,C113,C114,C115,C116,C117,C118,C119,C120,C121,C122,C123,C124,C125,C126,C127,C128,C129,C130,C131,C132,C133,C134,C107) -> 188 | D103: =SUM(D104,D105,D106,D108,D109,D110,D111,D112,D113,D114,D115,D116,D117,D118,D119,D120,D121,D122,D123,D124,D125,D126,D127,D128,D129,D130,D131,D132,D133,D134,D107) -> 90 | DD103: =IFERROR(IF(ISBLANK(C103),1,0)+IF(AND(C103>=0,C103<100000),0,1),1) -> 0 | DE103: =IFERROR(IF(ISBLANK(D103),1,0)+IF(AND(D103>=0,D103<100000),0,1),1) -> 0
A104: статья 6.24 КоАП РФ | B104: единиц | C104: 0 | D104: 6 | DD104: =IFERROR(IF(ISBLANK(C104),1,0)+IF(AND(C104>=0,C104<100000),0,1),1) -> 0 | DE104: =IFERROR(IF(ISBLANK(D104),1,0)+IF(AND(D104>=0,D104<100000),0,1),1) -> 0
A105: часть 1 статьи 7.21 КоАП РФ | B105: единиц | C105: 0 | D105: 0 | DD105: =IFERROR(IF(ISBLANK(C105),1,0)+IF(AND(C105>=0,C105<100000),0,1),1) -> 0 | DE105: =IFERROR(IF(ISBLANK(D105),1,0)+IF(AND(D105>=0,D105<100000),0,1),1) -> 0
...

Sheet БД
A1: report_id | B1: report_name | C1: period_value | D1: row_context_id | E1: row_context_value | F1: column_context_id | G1: column_context_value | H1: kpi_id | I1: kpi_name | J1: uom_id | K1: int_value | L1: numeric_value | M1: text_value | N1: dttm_value | O1: error_count | P1: row_num | Q1: column_num | X1: Обязательное поле | Y1: Тип ФЛК | Z1: Бизнес описание ФЛК
A2: STR25-21-2 | B2: Информация о деятельности органов государственного жилищного надзора | C2: ='к заполнению'!$B$11 -> 2026 год, 3 квартал | D2: Группа показателей | E2: Нормативная численность работников ГЖИ | F2: Наименование отчета | G2: Отчет деятельности ОГЖН | H2: STR25-21-2_1 | I2: Нормативная численность работников ГЖИ | J2: единиц | K2: ='к заполнению'!C16 -> 94 | O2: ='к заполнению'!DD16 -> 0 | P2: 1 | Q2: 1 | X2: Да | Y2: Диапазон значений | Z2: Число целое от 0 до 100000
A3: STR25-21-2 | B3: Информация о деятельности органов государственного жилищного надзора | C3: ='к заполнению'!$B$11 -> 2026 год, 3 квартал | D3: Группа показателей | E3: Фактическая численность работников ГЖИ | F3: Наименование отчета | G3: Отчет деятельности ОГЖН | H3: STR25-21-2_2 | I3: Всего | J3: единиц | K3: ='к заполнению'!C18 -> 94 | O3: ='к заполнению'!DD18 -> 0 | P3: 2 | Q3: 1 | X3: Да | Y3: Диапазон значений | Z3: Число целое от 0 до 100000
A4: STR25-21-2 | B4: Информация о деятельности органов государственного жилищного надзора | C4: ='к заполнению'!$B$11 -> 2026 год, 3 квартал | D4: Группа показателей | E4: Фактическая численность работников ГЖИ | F4: Наименование отчета | G4: Отчет деятельности ОГЖН | H4: STR25-21-2_3 | I4: Из них инспекторов | J4: единиц | K4: ='к заполнению'!C19 -> 76 | O4: ='к заполнению'!DD19 -> 0 | P4: 3 | Q4: 1 | X4: Да | Y4: Диапазон значений | Z4: Число целое от 0 до 100000
A5: STR25-21-2 | B5: Информация о деятельности органов государственного жилищного надзора | C5: ='к заполнению'!$B$11 -> 2026 год, 3 квартал | D5: Группа показателей | E5: Фактическая численность работников ГЖИ | F5: Наименование отчета | G5: Отчет деятельности ОГЖН | H5: STR25-21-2_4 | I5: Площадь жилищного фонда субъекта РФ | J5: тыс. кв. м | L5: ='к заполнению'!C20 -> 70500 | O5: ='к заполнению'!DD20 -> 0 | P5: 4 | Q5: 1 | X5: Да | Y5: Диапазон значений | Z5: Число действительное от 0 до 1000000
A6: STR25-21-2 | B6: Информация о деятельности органов государственного жилищного надзора | C6: ='к заполнению'!$B$11 -> 2026 год, 3 квартал | D6: Группа показателей | E6: Фактическая численность работников ГЖИ | F6: Наименование отчета | G6: Отчет деятельности ОГЖН | H6: STR25-21-2_5 | I6: Количество многоквартирных домов, расположенных на территории субъекта РФ | J6: единиц | K6: ='к заполнению'!C21 -> 15564 | O6: ='к заполнению'!DD21 -> 0 | P6: 5 | Q6: 1 | X6: Да | Y6: Диапазон значений | Z6: Число целое от 0 до 100000
A7: STR25-21-2 | B7: Информация о деятельности органов государственного жилищного надзора | C7: ='к заполнению'!$B$11 -> 2026 год, 3 квартал | D7: Группа показателей | E7: Фактическая численность работников ГЖИ | F7: Наименование отчета | G7: Отчет деятельности ОГЖН | H7: STR25-21-2_6 | I7: Количество обследованных жилых домов (за отчетный период) | J7: единиц | K7: ='к заполнению'!C22 -> 5536 | O7: ='к заполнению'!DD22 -> 0 | P7: 6 | Q7: 1 | X7: Да | Y7: Диапазон значений | Z7: Число целое от 0 до 100000
A8: STR25-21-2 | B8: Информация о деятельности органов государственного жилищного надзора | C8: ='к заполнению'!$B$11 -> 2026 год, 3 квартал | D8: Группа показателей | E8: Фактическая численность работников ГЖИ | F8: Наименование отчета | G8: Отчет деятельности ОГЖН | H8: STR25-21-2_7 | I8: Общая площадь обследованных жилых домов (за отчетный период) | J8: тыс. кв. м | L8: ='к заполнению'!C23 -> 11078 | O8: ='к заполнению'!DD23 -> 0 | P8: 7 | Q8: 1 | X8: Да | Y8: Диапазон значений | Z8: Число действительное от 0 до 1000000
A9: STR25-21-2 | B9: Информация о деятельности органов государственного жилищного надзора | C9: ='к заполнению'!$B$11 -> 2026 год, 3 квартал | D9: Группа показателей | E9: Количество управляющих организаций, товариществ собственников жилья, жилищных кооперативов, осуществляющих деятельность по управлению МКД на территории субъекта РФ | F9: Наименование отчета | G9: Отчет деятельности ОГЖН | H9: STR25-21-2_8 | I9: Всего | J9: единиц | K9: ='к заполнению'!C25 -> 654 | O9: ='к заполнению'!DD25 -> 0 | P9: 8 | Q9: 1 | X9: Да | Y9: Диапазон значений | Z9: Число целое от 0 до 100000
A10: STR25-21-2 | B10: Информация о деятельности органов государственного жилищного надзора | C10: ='к заполнению'!$B$11 -> 2026 год, 3 квартал | D10: Группа показателей | E10: Количество управляющих организаций, товариществ собственников жилья, жилищных кооперативов, осуществляющих деятельность по управлению МКД на территории субъекта РФ | F10: Наименование отчета | G10: Отчет деятельности ОГЖН | H10: STR25-21-2_9 | I10: Количество управляющих организаций | J10: единиц | K10: ='к заполнению'!C26 -> 286 | O10: ='к заполнению'!DD26 -> 0 | P10: 9 | Q10: 1 | X10: Да | Y10: Диапазон значений | Z10: Число целое от 0 до 100000
A11: STR25-21-2 | B11: Информация о деятельности органов государственного жилищного надзора | C11: ='к заполнению'!$B$11 -> 2026 год, 3 квартал | D11: Группа показателей | E11: Количество управляющих организаций, товариществ собственников жилья, жилищных кооперативов, осуществляющих деятельность по управлению МКД на территории субъекта РФ | F11: Наименование отчета | G11: Отчет деятельности ОГЖН | H11: STR25-21-2_10 | I11: Товариществ собственников жилья, жилищных кооперативов, осуществляющих деятельность по управлению МКД на территории субъекта РФ | J11: единиц | K11: ='к заполнению'!C27 -> 368 | O11: ='к заполнению'!DD27 -> 0 | P11: 10 | Q11: 1 | X11: Да | Y11: Диапазон значений | Z11: Число целое от 0 до 100000
A12: STR25-21-2 | B12: Информация о деятельности органов государственного жилищного надзора | C12: ='к заполнению'!$B$11 -> 2026 год, 3 квартал | D12: Группа показателей | E12: Количество представлений, внесенных органу государственного жилищного надзора в ходе прокурорской проверки | F12: Наименование отчета | G12: Отчет деятельности ОГЖН | H12: STR25-21-2_11 | I12: Всего | J12: единиц | K12: ='к заполнению'!C29 -> 0 | O12: ='к заполнению'!DD29 -> 0 | P12: 11 | Q12: 1 | X12: Да | Y12: Диапазон значений | Z12: Число целое от 0 до 100000
A13: STR25-21-2 | B13: Информация о деятельности органов государственного жилищного надзора | C13: ='к заполнению'!$B$11 -> 2026 год, 3 квартал | D13: Группа показателей | E13: Количество представлений, внесенных органу государственного жилищного надзора в ходе прокурорской проверки | F13: Наименование отчета | G13: Отчет деятельности ОГЖН | H13: STR25-21-2_12 | I13: Количество представлений, по результатам рассмотрения которых должностные лица органа государственного жилищного надзора (контроля) привлечены к дисциплинарной ответственности (за отчетный период) | J13: единиц | K13: ='к заполнению'!C30 -> 0 | O13: ='к заполнению'!DD30 -> 0 | P13: 12 | Q13: 1 | X13: Да | Y13: Диапазон значений | Z13: Число целое от 0 до 100000
A14: STR25-21-2 | B14: Информация о деятельности органов государственного жилищного надзора | C14: ='к заполнению'!$B$11 -> 2026 год, 3 квартал | D14: Группа показателей | E14: Тематика и количество поступивших обращений за отчетный период, в том числе количество обращений граждан и юр. лиц по подготовке жилищного фонда к ОЗП | F14: Наименование отчета | G14: Отчет по лицензионному контролю | H14: STR25-21-2_13 | I14: Количество поступивших обращений за отчетный период, из них: | J14: единиц | K14: ='к заполнению'!C34 -> 5766 | O14: ='к заполнению'!DD34 -> 0 | P14: 13 | Q14: 1 | X14: Да | Y14: Диапазон значений | Z14: Число целое от 0 до 100000
A15: STR25-21-2 | B15: Информация о деятельности органов государственного жилищного надзора | C15: ='к заполнению'!$B$11 -> 2026 год, 3 квартал | D15: Группа показателей | E15: Тематика и количество поступивших обращений за отчетный период, в том числе количество обращений граждан и юр. лиц по подготовке жилищного фонда к ОЗП | F15: Наименование отчета | G15: Отчет по лицензионному контролю | H15: STR25-21-2_14 | I15: по вопросам нарушения правил и норм технической эксплуатации жилищного фонда | J15: единиц | K15: ='к заполнению'!C35 -> 4285 | O15: ='к заполнению'!DD35 -> 0 | P15: 14 | Q15: 1 | X15: Да | Y15: Диапазон значений | Z15: Число целое от 0 до 100000
A16: STR25-21-2 | B16: Информация о деятельности органов государственного жилищного надзора | C16: ='к заполнению'!$B$11 -> 2026 год, 3 квартал | D16: Группа показателей | E16: Тематика и количество поступивших обращений за отчетный период, в том числе количество обращений граждан и юр. лиц по подготовке жилищного фонда к ОЗП | F16: Наименование отчета | G16: Отчет по лицензионному контролю | H16: STR25-21-2_15 | I16: по вопросам некачественного предоставления населению коммунальных услуг | J16: единиц | K16: ='к заполнению'!C36 -> 577 | O16: ='к заполнению'!DD36 -> 0 | P16: 15 | Q16: 1 | X16: Да | Y16: Диапазон значений | Z16: Число целое от 0 до 100000
A17: STR25-21-2 | B17: Информация о деятельности органов государственного жилищного надзора | C17: ='к заполнению'!$B$11 -> 2026 год, 3 квартал | D17: Группа показателей | E17: Тематика и количество поступивших обращений за отчетный период, в том числе количество обращений граждан и юр. лиц по подготовке жилищного фонда к ОЗП | F17: Наименование отчета | G17: Отчет по лицензионному контролю | H17: STR25-21-2_16 | I17: в том числе в связи с нарушением качества предоставления коммунальной услуги по горячему водоснабжению | J17: единиц | K17: ='к заполнению'!C37 -> 124 | O17: ='к заполнению'!DD37 -> 0 | P17: 16 | Q17: 1 | X17: Да | Y17: Диапазон значений | Z17: Число целое от 0 до 100000
A18: STR25-21-2 | B18: Информация о деятельности органов государственного жилищного надзора | C18: ='к заполнению'!$B$11 -> 2026 год, 3 квартал | D18: Группа показателей | E18: Тематика и количество поступивших обращений за отчетный период, в том числе количество обращений граждан и юр. лиц по подготовке жилищного фонда к ОЗП | F18: Наименование отчета | G18: Отчет по лицензионному контролю | H18: STR25-21-2_17 | I18: по вопросам нарушения требований законодательства о раскрытии информации | J18: единиц | K18: ='к заполнению'!C38 -> 205 | O18: ='к заполнению'!DD38 -> 0 | P18: 17 | Q18: 1 | X18: Да | Y18: Диапазон значений | Z18: Число целое от 0 до 100000
A19: STR25-21-2 | B19: Информация о деятельности органов государственного жилищного надзора | C19: ='к заполнению'!$B$11 -> 2026 год, 3 квартал | D19: Группа показателей | E19: Тематика и количество поступивших обращений за отчетный период, в том числе количество обращений граждан и юр. лиц по подготовке жилищного фонда к ОЗП | F19: Наименование отчета | G19: Отчет по лицензионному контролю | H19: STR25-21-2_18 | I19: по вопросам нарушения порядка расчета внесения платы за жилищно-коммунальные услуги | J19: единиц | K19: ='к заполнению'!C39 -> 670 | O19: ='к заполнению'!DD39 -> 0 | P19: 18 | Q19: 1 | X19: Да | Y19: Диапазон значений | Z19: Число целое от 0 до 100000
A20: STR25-21-2 | B20: Информация о деятельности органов государственного жилищного надзора | C20: ='к заполнению'!$B$11 -> 2026 год, 3 квартал | D20: Группа показателей | E20: Тематика и количество поступивших обращений за отчетный период, в том числе количество обращений граждан и юр. лиц по подготовке жилищного фонда к ОЗП | F20: Наименование отчета | G20: Отчет по лицензионному контролю | H20: STR25-21-2_19 | I20: по вопросам нарушения правил технической эксплуатации внутридомового газового оборудования | J20: единиц | K20: ='к заполнению'!C40 -> 5 | O20: ='к заполнению'!DD40 -> 0 | P20: 19 | Q20: 1 | X20: Да | Y20: Диапазон значений | Z20: Число целое от 0 до 100000
A21: STR25-21-2 | B21: Информация о деятельности органов государственного жилищного надзора | C21: ='к заполнению'!$B$11 -> 2026 год, 3 квартал | D21: Группа показателей | E21: Тематика и количество поступивших обращений за отчетный период, в том числе количество обращений граждан и юр. лиц по подготовке жилищного фонда к ОЗП | F21: Наименование отчета | G21: Отчет по лицензионному контролю | H21: STR25-21-2_20 | I21: по вопросам нарушения правил управления многоквартирными домами | J21: единиц | K21: ='к заполнению'!C41 -> 1 | O21: ='к заполнению'!DD41 -> 0 | P21: 20 | Q21: 1 | X21: Да | Y21: Диапазон значений | Z21: Число целое от 0 до 100000
A22: STR25-21-2 | B22: Информация о деятельности органов государственного жилищного надзора | C22: ='к заполнению'!$B$11 -> 2026 год, 3 квартал | D22: Группа показателей | E22: Тематика и количество поступивших обращений за отчетный период, в том числе количество обращений граждан и юр. лиц по подготовке жилищного фонда к ОЗП | F22: Наименование отчета | G22: Отчет по лицензионному контролю | H22: STR25-21-2_21 | I22: по вопросам подготовки и прохождения отопительного периода | J22: единиц | K22: ='к заполнению'!C42 -> 0 | O22: ='к заполнению'!DD42 -> 0 | P22: 21 | Q22: 1 | X22: Да | Y22: Диапазон значений | Z22: Число целое от 0 до 100000
A23: STR25-21-2 | B23: Информация о деятельности органов государственного жилищного надзора | C23: ='к заполнению'!$B$11 -> 2026 год, 3 квартал | D23: Группа показателей | E23: Тематика и количество поступивших обращений за отчетный период, в том числе количество обращений граждан и юр. лиц по подготовке жилищного фонда к ОЗП | F23: Наименование отчета | G23: Отчет по лицензионному контролю | H23: STR25-21-2_22 | I23: прочие вопросы | J23: единиц | K23: ='к заполнению'!C43 -> 23 | O23: ='к заполнению'!DD43 -> 0 | P23: 22 | Q23: 1 | X23: Да | Y23: Диапазон значений | Z23: Число целое от 0 до 100000
A24: STR25-21-2 | B24: Информация о деятельности органов государственного жилищного надзора | C24: ='к заполнению'!$B$11 -> 2026 год, 3 квартал | D24: Группа показателей | E24: Количество проведенных проверок КНМ, в рамках жилищного надзора и лицензионного контроля за отчетный период | F24: Наименование отчета | G24: Отчет по лицензионному контролю | H24: STR25-21-2_23 | I24: Всего | J24: единиц | K24: ='к заполнению'!C46 -> 226 | O24: ='к заполнению'!DD46 -> 0 | P24: 23 | Q24: 1 | X24: Да | Y24: Диапазон значений | Z24: Число целое от 0 до 100000
A25: STR25-21-2 | B25: Информация о деятельности органов государственного жилищного надзора | C25: ='к заполнению'!$B$11 -> 2026 год, 3 квартал | D25: Группа показателей | E25: Количество проведенных проверок КНМ, в рамках жилищного надзора и лицензионного контроля за отчетный период | F25: Наименование отчета | G25: Отчет по лицензионному контролю | H25: STR25-21-2_24 | I25: Плановых, из них: | J25: единиц | K25: ='к заполнению'!C47 -> 0 | O25: ='к заполнению'!DD47 -> 0 | P25: 24 | Q25: 1 | X25: Да | Y25: Диапазон значений | Z25: Число целое от 0 до 100000
A26: STR25-21-2 | B26: Информация о деятельности органов государственного жилищного надзора | C26: ='к заполнению'!$B$11 -> 2026 год, 3 квартал | D26: Плановых, из них: | E26: Количество проведенных проверок КНМ, в рамках жилищного надзора и лицензионного контроля за отчетный период | F26: Наименование отчета | G26: Отчет по лицензионному контролю | H26: STR25-21-2_25 | I26: Документарные | J26: единиц | K26: ='к заполнению'!C48 -> 0 | O26: ='к заполнению'!DD48 -> 0 | P26: 25 | Q26: 1 | X26: Да | Y26: Диапазон значений | Z26: Число целое от 0 до 100000
A27: STR25-21-2 | B27: Информация о деятельности органов государственного жилищного надзора | C27: ='к заполнению'!$B$11 -> 2026 год, 3 квартал | D27: Плановых, из них: | E27: Количество проведенных проверок КНМ, в рамках жилищного надзора и лицензионного контроля за отчетный период | F27: Наименование отчета | G27: Отчет по лицензионному контролю | H27: STR25-21-2_26 | I27: Выездные | J27: единиц | K27: ='к заполнению'!C49 -> 0 | O27: ='к заполнению'!DD49 -> 0 | P27: 26 | Q27: 1 | X27: Да | Y27: Диапазон значений | Z27: Число целое от 0 до 100000
A28: STR25-21-2 | B28: Информация о деятельности органов государственного жилищного надзора | C28: ='к заполнению'!$B$11 -> 2026 год, 3 квартал | D28: Плановых, из них: | E28: Количество проведенных проверок КНМ, в рамках жилищного надзора и лицензионного контроля за отчетный период | F28: Наименование отчета | G28: Отчет по лицензионному контролю | H28: STR25-21-2_27 | I28: инспекционный визит | J28: единиц | K28: ='к заполнению'!C50 -> 0 | O28: ='к заполнению'!DD50 -> 0 | P28: 27 | Q28: 1 | X28: Да | Y28: Диапазон значений | Z28: Число целое от 0 до 100000
A29: STR25-21-2 | B29: Информация о деятельности органов государственного жилищного надзора | C29: ='к заполнению'!$B$11 -> 2026 год, 3 квартал | D29: Внеплановых, из них: | E29: Количество проведенных проверок КНМ, в рамках жилищного надзора и лицензионного контроля за отчетный период | F29: Наименование отчета | G29: Отчет по лицензионному контролю | H29: STR25-21-2_28 | I29: Внеплановых, из них: | J29: единиц | K29: ='к заполнению'!C51 -> 226 | O29: ='к заполнению'!DD51 -> 0 | P29: 28 | Q29: 1 | X29: Да | Y29: Диапазон значений | Z29: Число целое от 0 до 100000
A30: STR25-21-2 | B30: Информация о деятельности органов государственного жилищного надзора | C30: ='к заполнению'!$B$11 -> 2026 год, 3 квартал | D30: Внеплановых, из них: | E30: Количество проведенных проверок КНМ, в рамках жилищного надзора и лицензионного контроля за отчетный период | F30: Наименование отчета | G30: Отчет по лицензионному контролю | H30: STR25-21-2_29 | I30: Документарные | J30: единиц | K30: ='к заполнению'!C52 -> 12 | O30: ='к заполнению'!DD52 -> 0 | P30: 29 | Q30: 1 | X30: Да | Y30: Диапазон значений | Z30: Число целое от 0 до 100000
A31: STR25-21-2 | B31: Информация о деятельности органов государственного жилищного надзора | C31: ='к заполнению'!$B$11 -> 2026 год, 3 квартал | D31: Внеплановых, из них: | E31: Количество проведенных проверок КНМ, в рамках жилищного надзора и лицензионного контроля за отчетный период | F31: Наименование отчета | G31: Отчет по лицензионному контролю | H31: STR25-21-2_30 | I31: Выездные | J31: единиц | K31: ='к заполнению'!C53 -> 12 | O31: ='к заполнению'!DD53 -> 0 | P31: 30 | Q31: 1 | X31: Да | Y31: Диапазон значений | Z31: Число целое от 0 до 100000
A32: STR25-21-2 | B32: Информация о деятельности органов государственного жилищного надзора | C32: ='к заполнению'!$B$11 -> 2026 год, 3 квартал | D32: Группа показателей | E32: Количество проведенных проверок КНМ, в рамках жилищного надзора и лицензионного контроля за отчетный период | F32: Наименование отчета | G32: Отчет по лицензионному контролю | H32: STR25-21-2_31 | I32: инспекционный визит | J32: единиц | K32: ='к заполнению'!C54 -> 202 | O32: ='к заполнению'!DD54 -> 0 | P32: 31 | Q32: 1 | X32: Да | Y32: Диапазон значений | Z32: Число целое от 0 до 100000
A33: STR25-21-2 | B33: Информация о деятельности органов государственного жилищного надзора | C33: ='к заполнению'!$B$11 -> 2026 год, 3 квартал | D33: Группа показателей | E33: Количество проведенных профилактические мероприятия в рамках жилищного надзора и лицензионного контроля за отчетный период, из них | F33: Наименование отчета | G33: Отчет по лицензионному контролю | H33: STR25-21-2_32 | I33: информирование | J33: единиц | K33: ='к заполнению'!C57 -> 368 | O33: ='к заполнению'!DD57 -> 0 | P33: 32 | Q33: 1 | X33: Да | Y33: Диапазон значений | Z33: Число целое от 0 до 100000
A34: STR25-21-2 | B34: Информация о деятельности органов государственного жилищного надзора | C34: ='к заполнению'!$B$11 -> 2026 год, 3 квартал | D34: Группа показателей | E34: Количество проведенных профилактические мероприятия в рамках жилищного надзора и лицензионного контроля за отчетный период, из них | F34: Наименование отчета | G34: Отчет по лицензионному контролю | H34: STR25-21-2_33 | I34: обобщение правоприменительной практики; | J34: единиц | K34: ='к заполнению'!C58 -> 0 | O34: ='к заполнению'!DD58 -> 0 | P34: 33 | Q34: 1 | X34: Да | Y34: Диапазон значений | Z34: Число целое от 0 до 100000
A35: STR25-21-2 | B35: Информация о деятельности органов государственного жилищного надзора | C35: ='к заполнению'!$B$11 -> 2026 год, 3 квартал | D35: Группа показателей | E35: Количество проведенных профилактические мероприятия в рамках жилищного надзора и лицензионного контроля за отчетный период, из них | F35: Наименование отчета | G35: Отчет по лицензионному контролю | H35: STR25-21-2_34 | I35: объявление предостережения | J35: единиц | K35: ='к заполнению'!C59 -> 679 | O35: ='к заполнению'!DD59 -> 0 | P35: 34 | Q35: 1 | X35: Да | Y35: Диапазон значений | Z35: Число целое от 0 до 100000
A36: STR25-21-2 | B36: Информация о деятельности органов государственного жилищного надзора | C36: ='к заполнению'!$B$11 -> 2026 год, 3 квартал | D36: Группа показателей | E36: Количество проведенных профилактические мероприятия в рамках жилищного надзора и лицензионного контроля за отчетный период, из них | F36: Наименование отчета | G36: Отчет по лицензионному контролю | H36: STR25-21-2_35 | I36: консультирование | J36: единиц | K36: ='к заполнению'!C60 -> 272 | O36: ='к заполнению'!DD60 -> 0 | P36: 35 | Q36: 1 | X36: Да | Y36: Диапазон значений | Z36: Число целое от 0 до 100000
A37: STR25-21-2 | B37: Информация о деятельности органов государственного жилищного надзора | C37: ='к заполнению'!$B$11 -> 2026 год, 3 квартал | D37: Группа показателей | E37: Количество проведенных профилактические мероприятия в рамках жилищного надзора и лицензионного контроля за отчетный период, из них | F37: Наименование отчета | G37: Отчет по лицензионному контролю | H37: STR25-21-2_36 | I37: профилактический визит | J37: единиц | K37: ='к заполнению'!C61 -> 1 | O37: ='к заполнению'!DD61 -> 0 | P37: 36 | Q37: 1 | X37: Да | Y37: Диапазон значений | Z37: Число целое от 0 до 100000
A38: STR25-21-2 | B38: Информация о деятельности органов государственного жилищного надзора | C38: ='к заполнению'!$B$11 -> 2026 год, 3 квартал | D38: Группа показателей | E38: Количество проведенных профилактические мероприятия в рамках жилищного надзора и лицензионного контроля за отчетный период, из них | F38: Наименование отчета | G38: Отчет по лицензионному контролю | H38: STR25-21-2_37 | I38: обязательный профилактический визит | J38: единиц | K38: ='к заполнению'!C62 -> 0 | O38: ='к заполнению'!DD62 -> 0 | P38: 37 | Q38: 1 | X38: Да | Y38: Диапазон значений | Z38: Число целое от 0 до 100000
A39: STR25-21-2 | B39: Информация о деятельности органов государственного жилищного надзора | C39: ='к заполнению'!$B$11 -> 2026 год, 3 квартал | D39: Группа показателей | E39: Количество выявленных нарушений (за отчетный период) | F39: Наименование отчета | G39: Отчет по лицензионному контролю | H39: STR25-21-2_38 | I39: Всего | J39: единиц | K39: ='к заполнению'!C65 -> 486 | O39: ='к заполнению'!DD65 -> 0 | P39: 38 | Q39: 1 | X39: Да | Y39: Диапазон значений | Z39: Число целое от 0 до 100000
A40: STR25-21-2 | B40: Информация о деятельности органов государственного жилищного надзора | C40: ='к заполнению'!$B$11 -> 2026 год, 3 квартал | D40: Группа показателей | E40: Количество выявленных нарушений (за отчетный период) | F40: Наименование отчета | G40: Отчет по лицензионному контролю | H40: STR25-21-2_39 | I40: Правил и норм технической эксплуатации жилищного фонда | J40: единиц | K40: ='к заполнению'!C66 -> 306 | O40: ='к заполнению'!DD66 -> 0 | P40: 39 | Q40: 1 | X40: Да | Y40: Диапазон значений | Z40: Число целое от 0 до 100000
A41: STR25-21-2 | B41: Информация о деятельности органов государственного жилищного надзора | C41: ='к заполнению'!$B$11 -> 2026 год, 3 квартал | D41: Группа показателей | E41: Количество выявленных нарушений (за отчетный период) | F41: Наименование отчета | G41: Отчет по лицензионному контролю | H41: STR25-21-2_40 | I41: Некачественное предоставление населению коммунальных услуг | J41: единиц | K41: ='к заполнению'!C67 -> 4 | O41: ='к заполнению'!DD67 -> 0 | P41: 40 | Q41: 1 | X41: Да | Y41: Диапазон значений | Z41: Число целое от 0 до 100000
A42: STR25-21-2 | B42: Информация о деятельности органов государственного жилищного надзора | C42: ='к заполнению'!$B$11 -> 2026 год, 3 квартал | D42: Группа показателей | E42: Количество выявленных нарушений (за отчетный период) | F42: Наименование отчета | G42: Отчет по лицензионному контролю | H42: STR25-21-2_41 | I42: Требований законодательства о раскрытии информации | J42: единиц | K42: ='к заполнению'!C68 -> 113 | O42: ='к заполнению'!DD68 -> 0 | P42: 41 | Q42: 1 | X42: Да | Y42: Диапазон значений | Z42: Число целое от 0 до 100000
A43: STR25-21-2 | B43: Информация о деятельности органов государственного жилищного надзора | C43: ='к заполнению'!$B$11 -> 2026 год, 3 квартал | D43: Группа показателей | E43: Количество выявленных нарушений (за отчетный период) | F43: Наименование отчета | G43: Отчет по лицензионному контролю | H43: STR25-21-2_42 | I43: Порядка расчета внесения платы за жилищно-коммунальные услуги | J43: единиц | K43: ='к заполнению'!C69 -> 6 | O43: ='к заполнению'!DD69 -> 0 | P43: 42 | Q43: 1 | X43: Да | Y43: Диапазон значений | Z43: Число целое от 0 до 100000
A44: STR25-21-2 | B44: Информация о деятельности органов государственного жилищного надзора | C44: ='к заполнению'!$B$11 -> 2026 год, 3 квартал | D44: Группа показателей | E44: Количество выявленных нарушений (за отчетный период) | F44: Наименование отчета | G44: Отчет по лицензионному контролю | H44: STR25-21-2_43 | I44: Правил технической эксплуатации внутридомового газового оборудования | J44: единиц | K44: ='к заполнению'!C70 -> 0 | O44: ='к заполнению'!DD70 -> 0 | P44: 43 | Q44: 1 | X44: Да | Y44: Диапазон значений | Z44: Число целое от 0 до 100000
A45: STR25-21-2 | B45: Информация о деятельности органов государственного жилищного надзора | C45: ='к заполнению'!$B$11 -> 2026 год, 3 квартал | D45: Группа показателей | E45: Количество выявленных нарушений (за отчетный период) | F45: Наименование отчета | G45: Отчет по лицензионному контролю | H45: STR25-21-2_44 | I45: Правил пользования помещениями | J45: единиц | K45: ='к заполнению'!C71 -> 0 | O45: ='к заполнению'!DD71 -> 0 | P45: 44 | Q45: 1 | X45: Да | Y45: Диапазон значений | Z45: Число целое от 0 до 100000
A46: STR25-21-2 | B46: Информация о деятельности органов государственного жилищного надзора | C46: ='к заполнению'!$B$11 -> 2026 год, 3 квартал | D46: Группа показателей | E46: Количество выявленных нарушений (за отчетный период) | F46: Наименование отчета | G46: Отчет по лицензионному контролю | H46: STR25-21-2_45 | I46: Правил управления многоквартирными домами | J46: единиц | K46: ='к заполнению'!C72 -> 1 | O46: ='к заполнению'!DD72 -> 0 | P46: 45 | Q46: 1 | X46: Да | Y46: Диапазон значений | Z46: Число целое от 0 до 100000
A47: STR25-21-2 | B47: Информация о деятельности органов государственного жилищного надзора | C47: ='к заполнению'!$B$11 -> 2026 год, 3 квартал | D47: Группа показателей | E47: Количество выявленных нарушений (за отчетный период) | F47: Наименование отчета | G47: Отчет по лицензионному контролю | H47: STR25-21-2_46 | I47: Неисполненных предписаний | J47: единиц | K47: ='к заполнению'!C73 -> 32 | O47: ='к заполнению'!DD73 -> 0 | P47: 46 | Q47: 1 | X47: Да | Y47: Диапазон значений | Z47: Число целое от 0 до 100000
A48: STR25-21-2 | B48: Информация о деятельности органов государственного жилищного надзора | C48: ='к заполнению'!$B$11 -> 2026 год, 3 квартал | D48: Группа показателей | E48: Количество выявленных нарушений (за отчетный период) | F48: Наименование отчета | G48: Отчет по лицензионному контролю | H48: STR25-21-2_47 | I48: По факту выявления грубых нарушений | J48: единиц | K48: ='к заполнению'!C74 -> 0 | O48: ='к заполнению'!DD74 -> 0 | P48: 47 | Q48: 1 | X48: Да | Y48: Диапазон значений | Z48: Число целое от 0 до 100000
A49: STR25-21-2 | B49: Информация о деятельности органов государственного жилищного надзора | C49: ='к заполнению'!$B$11 -> 2026 год, 3 квартал | D49: Группа показателей | E49: Количество выявленных нарушений (за отчетный период) | F49: Наименование отчета | G49: Отчет по лицензионному контролю | H49: STR25-21-2_48 | I49: По вопросам подготовки и прохождения отопительного периода | J49: единиц | K49: ='к заполнению'!C75 -> 0 | O49: ='к заполнению'!DD75 -> 0 | P49: 48 | Q49: 1 | X49: Да | Y49: Диапазон значений | Z49: Число целое от 0 до 100000
A50: STR25-21-2 | B50: Информация о деятельности органов государственного жилищного надзора | C50: ='к заполнению'!$B$11 -> 2026 год, 3 квартал | D50: Группа показателей | E50: Количество выявленных нарушений (за отчетный период) | F50: Наименование отчета | G50: Отчет по лицензионному контролю | H50: STR25-21-2_49 | I50: Прочих нарушений | J50: единиц | K50: ='к заполнению'!C76 -> 24 | O50: ='к заполнению'!DD76 -> 0 | P50: 49 | Q50: 1 | X50: Да | Y50: Диапазон значений | Z50: Число целое от 0 до 100000
A51: STR25-21-2 | B51: Информация о деятельности органов государственного жилищного надзора | C51: ='к заполнению'!$B$11 -> 2026 год, 3 квартал | D51: Группа показателей | E51: Тематика и количество выданных предписаний по результатам КНМ | F51: Наименование отчета | G51: Отчет по лицензионному контролю | H51: STR25-21-2_50 | I51: Всего | J51: единиц | K51: ='к заполнению'!C80 -> 175 | O51: ='к заполнению'!DD80 -> 0 | P51: 50 | Q51: 1 | X51: Да | Y51: Диапазон значений | Z51: Число целое от 0 до 100000
A52: STR25-21-2 | B52: Информация о деятельности органов государственного жилищного надзора | C52: ='к заполнению'!$B$11 -> 2026 год, 3 квартал | D52: Группа показателей | E52: Тематика и количество выданных предписаний по результатам КНМ | F52: Наименование отчета | G52: Отчет по лицензионному контролю | H52: STR25-21-2_51 | I52: по факту нарушения правил и норм технической эксплуатации жилищного фонда | J52: единиц | K52: ='к заполнению'!C81 -> 145 | O52: ='к заполнению'!DD81 -> 0 | P52: 51 | Q52: 1 | X52: Да | Y52: Диапазон значений | Z52: Число целое от 0 до 100000
A53: STR25-21-2 | B53: Информация о деятельности органов государственного жилищного надзора | C53: ='к заполнению'!$B$11 -> 2026 год, 3 квартал | D53: Группа показателей | E53: Тематика и количество выданных предписаний по результатам КНМ | F53: Наименование отчета | G53: Отчет по лицензионному контролю | H53: STR25-21-2_52 | I53: по факту некачественного предоставления населению коммунальных услуг | J53: единиц | K53: ='к заполнению'!C82 -> 3 | O53: ='к заполнению'!DD82 -> 0 | P53: 52 | Q53: 1 | X53: Да | Y53: Диапазон значений | Z53: Число целое от 0 до 100000
A54: STR25-21-2 | B54: Информация о деятельности органов государственного жилищного надзора | C54: ='к заполнению'!$B$11 -> 2026 год, 3 квартал | D54: Группа показателей | E54: Тематика и количество выданных предписаний по результатам КНМ | F54: Наименование отчета | G54: Отчет по лицензионному контролю | H54: STR25-21-2_53 | I54: в том числе в связи с нарушением качества предоставления коммунальной услуги по горячему водоснабжению (не входит в сумму "Всего") | J54: единиц | K54: ='к заполнению'!C83 -> 2 | O54: ='к заполнению'!DD83 -> 0 | P54: 53 | Q54: 1 | X54: Да | Y54: Диапазон значений | Z54: Число целое от 0 до 100000
A55: STR25-21-2 | B55: Информация о деятельности органов государственного жилищного надзора | C55: ='к заполнению'!$B$11 -> 2026 год, 3 квартал | D55: Группа показателей | E55: Тематика и количество выданных предписаний по результатам КНМ | F55: Наименование отчета | G55: Отчет по лицензионному контролю | H55: STR25-21-2_54 | I55: по факту нарушения требований законодательства о раскрытии информации | J55: единиц | K55: ='к заполнению'!C84 -> 2 | O55: ='к заполнению'!DD84 -> 0 | P55: 54 | Q55: 1 | X55: Да | Y55: Диапазон значений | Z55: Число целое от 0 до 100000
A56: STR25-21-2 | B56: Информация о деятельности органов государственного жилищного надзора | C56: ='к заполнению'!$B$11 -> 2026 год, 3 квартал | D56: Группа показателей | E56: Тематика и количество выданных предписаний по результатам КНМ | F56: Наименование отчета | G56: Отчет по лицензионному контролю | H56: STR25-21-2_55 | I56: по факту нарушения порядка расчета внесения платы за жилищно-коммунальные услуги | J56: единиц | K56: ='к заполнению'!C85 -> 5 | O56: ='к заполнению'!DD85 -> 0 | P56: 55 | Q56: 1 | X56: Да | Y56: Диапазон значений | Z56: Число целое от 0 до 100000
A57: STR25-21-2 | B57: Информация о деятельности органов государственного жилищного надзора | C57: ='к заполнению'!$B$11 -> 2026 год, 3 квартал | D57: Группа показателей | E57: Тематика и количество выданных предписаний по результатам КНМ | F57: Наименование отчета | G57: Отчет по лицензионному контролю | H57: STR25-21-2_56 | I57: по факту нарушения правил технической эксплуатации внутридомового газового оборудования | J57: единиц | K57: ='к заполнению'!C86 -> 0 | O57: ='к заполнению'!DD86 -> 0 | P57: 56 | Q57: 1 | X57: Да | Y57: Диапазон значений | Z57: Число целое от 0 до 100000
A58: STR25-21-2 | B58: Информация о деятельности органов государственного жилищного надзора | C58: ='к заполнению'!$B$11 -> 2026 год, 3 квартал | D58: Группа показателей | E58: Тематика и количество выданных предписаний по результатам КНМ | F58: Наименование отчета | G58: Отчет по лицензионному контролю | H58: STR25-21-2_57 | I58: по факту нарушения правил управления многоквартирными домами | J58: единиц | K58: ='к заполнению'!C87 -> 0 | O58: ='к заполнению'!DD87 -> 0 | P58: 57 | Q58: 1 | X58: Да | Y58: Диапазон значений | Z58: Число целое от 0 до 100000
A59: STR25-21-2 | B59: Информация о деятельности органов государственного жилищного надзора | C59: ='к заполнению'!$B$11 -> 2026 год, 3 квартал | D59: Группа показателей | E59: Тематика и количество выданных предписаний по результатам КНМ | F59: Наименование отчета | G59: Отчет по лицензионному контролю | H59: STR25-21-2_58 | I59: по факту нарушения правил подготовки и прохождения отопительного периода | J59: единиц | K59: ='к заполнению'!C88 -> 0 | O59: ='к заполнению'!DD88 -> 0 | P59: 58 | Q59: 1 | X59: Да | Y59: Диапазон значений | Z59: Число целое от 0 до 100000
A60: STR25-21-2 | B60: Информация о деятельности органов государственного жилищного надзора | C60: ='к заполнению'!$B$11 -> 2026 год, 3 квартал | D60: Группа показателей | E60: Тематика и количество выданных предписаний по результатам КНМ | F60: Наименование отчета | G60: Отчет по лицензионному контролю | H60: STR25-21-2_59 | I60: по факту неисполнения ранее выданных предписаний | J60: единиц | K60: ='к заполнению'!C89 -> 20 | O60: ='к заполнению'!DD89 -> 0 | P60: 59 | Q60: 1 | X60: Да | Y60: Диапазон значений | Z60: Число целое от 0 до 100000
A61: STR25-21-2 | B61: Информация о деятельности органов государственного жилищного надзора | C61: ='к заполнению'!$B$11 -> 2026 год, 3 квартал | D61: Группа показателей | E61: Тематика и количество выданных предписаний по результатам КНМ | F61: Наименование отчета | G61: Отчет по лицензионному контролю | H61: STR25-21-2_60 | I61: по факту выявления грубых нарушений | J61: единиц | K61: ='к заполнению'!C90 -> 0 | O61: ='к заполнению'!DD90 -> 0 | P61: 60 | Q61: 1 | X61: Да | Y61: Диапазон значений | Z61: Число целое от 0 до 100000
A62: STR25-21-2 | B62: Информация о деятельности органов государственного жилищного надзора | C62: ='к заполнению'!$B$11 -> 2026 год, 3 квартал | D62: Группа показателей | E62: Тематика и количество выданных предписаний по результатам КНМ | F62: Наименование отчета | G62: Отчет по лицензионному контролю | H62: STR25-21-2_61 | I62: прочие нарушения | J62: единиц | K62: ='к заполнению'!C91 -> 0 | O62: ='к заполнению'!DD91 -> 0 | P62: 61 | Q62: 1 | X62: Да | Y62: Диапазон значений | Z62: Число целое от 0 до 100000
... A71: STR25-21-2 | B71: Информация о деятельности органов государственного жилищного надзора | C71: ='к заполнению'!$B$11 -> 2026 год, 3 квартал | D71: по результатам внеплановых КНМ, из них: | E71: Тематика и количество выданных предписаний по результатам КНМ | F71: Наименование отчета | G71: Выдано исполнительных документов (Отчет по лицензионному контролю) | H71: STR25-21-2_70 | I71: инспекционных визитов | J71: единиц | K71: ='к заполнению'!C100 -> 168 | O71: ='к заполнению'!DD100 -> 0 | P71: 70 | Q71: 1 | X71: Да | Y71: Диапазон значений | Z71: Число целое от 0 до 100000
A72: STR25-21-2 | B72: Информация о деятельности органов государственного жилищного надзора | C72: ='к заполнению'!$B$11 -> 2026 год, 3 квартал | D72: Группа показателей | E72: Всего составлено протоколов, из них: | F72: Наименование отчета | G72: Административное производство (Отчет по лицензионному контролю) | H72: STR25-21-2_71 | I72: Всего составлено протоколов, из них: | J72: единиц | K72: ='к заполнению'!C103 -> 188 | O72: ='к заполнению'!DD103 -> 0 | P72: 71 | Q72: 1 | X72: Да | Y72: Диапазон значений | Z72: Число целое от 0 до 100000
A73: STR25-21-2 | B73: Информация о деятельности органов государственного жилищного надзора | C73: ='к заполнению'!$B$11 -> 2026 год, 3 квартал | D73: Группа показателей | E73: Всего составлено протоколов, из них: | F73: Наименование отчета | G73: Административное производство (Отчет по лицензионному контролю) | H73: STR25-21-2_72 | I73: статья 6.24 КоАП РФ | J73: единиц | K73: ='к заполнению'!C104 -> 0 | O73: ='к заполнению'!DD104 -> 0 | P73: 72 | Q73: 1 | X73: Да | Y73: Диапазон значений | Z73: Число целое от 0 до 100000
A74: STR25-21-2 | B74: Информация о деятельности органов государственного жилищного надзора | C74: ='к заполнению'!$B$11 -> 2026 год, 3 квартал | D74: Группа показателей | E74: Всего составлено протоколов, из них: | F74: Наименование отчета | G74: Административное производство (Отчет по лицензионному контролю) | H74: STR25-21-2_73 | I74: часть 1 статьи 7.21 КоАП РФ | J74: единиц | K74: ='к заполнению'!C105 -> 0 | O74: ='к заполнению'!DD105 -> 0 | P74: 73 | Q74: 1 | X74: Да | Y74: Диапазон значений | Z74: Число целое от 0 до 100000
A75: STR25-21-2 | B75: Информация о деятельности органов государственного жилищного надзора | C75: ='к заполнению'!$B$11 -> 2026 год, 3 квартал | D75: Группа показателей | E75: Всего составлено протоколов, из них: | F75: Наименование отчета | G75: Административное производство (Отчет по лицензионному контролю) | H75: STR25-21-2_74 | I75: часть 2 статьи 7.21 КоАП РФ | J75: единиц | K75: ='к заполнению'!C106 -> 0 | O75: ='к заполнению'!DD106 -> 0 | P75: 74 | Q75: 1 | X75: Да | Y75: Диапазон значений | Z75: Число целое от 0 до 100000
A76: STR25-21-2 | B76: Информация о деятельности органов государственного жилищного надзора | C76: ='к заполнению'!$B$11 -> 2026 год, 3 квартал | D76: Группа показателей | E76: Всего составлено протоколов, из них: | F76: Наименование отчета | G76: Административное производство (Отчет по лицензионному контролю) | H76: STR25-21-2_75 | I76: статья 7.22 КоАП РФ | J76: единиц | K76: ='к заполнению'!C107 -> 0 | P76: 75 | Q76: 1 | X76: Да | Y76: Диапазон значений | Z76: Число целое от 0 до 100000
A77: STR25-21-2 | B77: Информация о деятельности органов государственного жилищного надзора | C77: ='к заполнению'!$B$11 -> 2026 год, 3 квартал | D77: Группа показателей | E77: Всего составлено протоколов, из них: | F77: Наименование отчета | G77: Административное производство (Отчет по лицензионному контролю) | H77: STR25-21-2_76 | I77: часть 1 статьи 7.23 КоАП РФ | J77: единиц | K77: ='к заполнению'!C108 -> 0 | O77: ='к заполнению'!DD108 -> 0 | P77: 76 | Q77: 1 | X77: Да | Y77: Диапазон значений | Z77: Число целое от 0 до 100000
A78: STR25-21-2 | B78: Информация о деятельности органов государственного жилищного надзора | C78: ='к заполнению'!$B$11 -> 2026 год, 3 квартал | D78: Группа показателей | E78: Всего составлено протоколов, из них: | F78: Наименование отчета | G78: Административное производство (Отчет по лицензионному контролю) | H78: STR25-21-2_77 | I78: часть 2 статьи 7.23 КоАП РФ | J78: единиц | K78: ='к заполнению'!C109 -> 0 | O78: ='к заполнению'!DD109 -> 0 | P78: 77 | Q78: 1 | X78: Да | Y78: Диапазон значений | Z78: Число целое от 0 до 100000
A79: STR25-21-2 | B79: Информация о деятельности органов государственного жилищного надзора | C79: ='к заполнению'!$B$11 -> 2026 год, 3 квартал | D79: Группа показателей | E79: Всего составлено протоколов, из них: | F79: Наименование отчета | G79: Административное производство (Отчет по лицензионному контролю) | H79: STR25-21-2_78 | I79: часть 3 статьи 7.23 КоАП РФ | J79: единиц | K79: ='к заполнению'!C110 -> 0 | O79: ='к заполнению'!DD110 -> 0 | P79: 78 | Q79: 1 | X79: Да | Y79: Диапазон значений | Z79: Число целое от 0 до 100000
A80: STR25-21-2 | B80: Информация о деятельности органов государственного жилищного надзора | C80: ='к заполнению'!$B$11 -> 2026 год, 3 квартал | D80: Группа показателей | E80: Всего составлено протоколов, из них: | F80: Наименование отчета | G80: Административное производство (Отчет по лицензионному контролю) | H80: STR25-21-2_79 | I80: часть 1 статьи 7.23.2 КоАП РФ | J80: единиц | K80: ='к заполнению'!C111 -> 1 | O80: ='к заполнению'!DD111 -> 0 | P80: 79 | Q80: 1 | X80: Да | Y80: Диапазон значений | Z80: Число целое от 0 до 100000
A81: STR25-21-2 | B81: Информация о деятельности органов государственного жилищного надзора | C81: ='к заполнению'!$B$11 -> 2026 год, 3 квартал | D81: Группа показателей | E81: Всего составлено протоколов, из них: | F81: Наименование отчета | G81: Административное производство (Отчет по лицензионному контролю) | H81: STR25-21-2_80 | I81: часть 1 статьи 7.23.3 КоАП РФ | J81: единиц | K81: ='к заполнению'!C112 -> 7 | O81: ='к заполнению'!DD112 -> 0 | P81: 80 | Q81: 1 | X81: Да | Y81: Диапазон значений | Z81: Число целое от 0 до 100000
A82: STR25-21-2 | B82: Информация о деятельности органов государственного жилищного надзора | C82: ='к заполнению'!$B$11 -> 2026 год, 3 квартал | D82: Группа показателей | E82: Всего составлено протоколов, из них: | F82: Наименование отчета | G82: Административное производство (Отчет по лицензионному контролю) | H82: STR25-21-2_81 | I82: часть 2 статьи 7.23.3 КоАП РФ | J82: единиц | K82: ='к заполнению'!C113 -> 0 | O82: ='к заполнению'!DD113 -> 0 | P82: 81 | Q82: 1 | X82: Да | Y82: Диапазон значений | Z82: Число целое от 0 до 100000
A83: STR25-21-2 | B83: Информация о деятельности органов государственного жилищного надзора | C83: ='к заполнению'!$B$11 -> 2026 год, 3 квартал | D83: Группа показателей | E83: Всего составлено протоколов, из них: | F83: Наименование отчета | G83: Административное производство (Отчет по лицензионному контролю) | H83: STR25-21-2_82 | I83: часть 1 статьи 9.5.1 КоАП РФ | J83: единиц | K83: ='к заполнению'!C114 -> 0 | O83: ='к заполнению'!DD114 -> 0 | P83: 82 | Q83: 1 | X83: Да | Y83: Диапазон значений | Z83: Число целое от 0 до 100000
A84: STR25-21-2 | B84: Информация о деятельности органов государственного жилищного надзора | C84: ='к заполнению'!$B$11 -> 2026 год, 3 квартал | D84: Группа показателей | E84: Всего составлено протоколов, из них: | F84: Наименование отчета | G84: Административное производство (Отчет по лицензионному контролю) | H84: STR25-21-2_83 | I84: часть 2 статьи 9.5.1 КоАП РФ | J84: единиц | K84: ='к заполнению'!C115 -> 0 | O84: ='к заполнению'!DD115 -> 0 | P84: 83 | Q84: 1 | X84: Да | Y84: Диапазон значений | Z84: Число целое от 0 до 100000
A85: STR25-21-2 | B85: Информация о деятельности органов государственного жилищного надзора | C85: ='к заполнению'!$B$11 -> 2026 год, 3 квартал | D85: Группа показателей | E85: Всего составлено протоколов, из них: | F85: Наименование отчета | G85: Административное производство (Отчет по лицензионному контролю) | H85: STR25-21-2_84 | I85: часть 3 статьи 9.5.1 КоАП РФ | J85: единиц | K85: ='к заполнению'!C116 -> 0 | O85: ='к заполнению'!DD116 -> 0 | P85: 84 | Q85: 1 | X85: Да | Y85: Диапазон значений | Z85: Число целое от 0 до 100000
A86: STR25-21-2 | B86: Информация о деятельности органов государственного жилищного надзора | C86: ='к заполнению'!$B$11 -> 2026 год, 3 квартал | D86: Группа показателей | E86: Всего составлено протоколов, из них: | F86: Наименование отчета | G86: Административное производство (Отчет по лицензионному контролю) | H86: STR25-21-2_85 | I86: статья 9.13 КоАП РФ | J86: единиц | K86: ='к заполнению'!C117 -> 0 | O86: ='к заполнению'!DD117 -> 0 | P86: 85 | Q86: 1 | X86: Да | Y86: Диапазон значений | Z86: Число целое от 0 до 100000
A87: STR25-21-2 | B87: Информация о деятельности органов государственного жилищного надзора | C87: ='к заполнению'!$B$11 -> 2026 год, 3 квартал | D87: Группа показателей | E87: Всего составлено протоколов, из них: | F87: Наименование отчета | G87: Административное производство (Отчет по лицензионному контролю) | H87: STR25-21-2_86 | I87: часть 4 статьи 9.16 КоАП РФ | J87: единиц | K87: ='к заполнению'!C118 -> 0 | O87: ='к заполнению'!DD118 -> 0 | P87: 86 | Q87: 1 | X87: Да | Y87: Диапазон значений | Z87: Число целое от 0 до 100000
A88: STR25-21-2 | B88: Информация о деятельности органов государственного жилищного надзора | C88: ='к заполнению'!$B$11 -> 2026 год, 3 квартал | D88: Группа показателей | E88: Всего составлено протоколов, из них: | F88: Наименование отчета | G88: Административное производство (Отчет по лицензионному контролю) | H88: STR25-21-2_87 | I88: часть 5 статьи 9.16 КоАП РФ | J88: единиц | K88: ='к заполнению'!C119 -> 0 | O88: ='к заполнению'!DD119 -> 0 | P88: 87 | Q88: 1 | X88: Да | Y88: Диапазон значений | Z88: Число целое от 0 до 100000
... A107: STR25-21-2 | B107: Информация о деятельности органов государственного жилищного надзора | C107: ='к заполнению'!$B$11 -> 2026 год, 3 квартал | D107: Группа показателей | E107: Всего рассмотрено дел об административных правонарушениях, из них: | F107: Наименование отчета | G107: Административное производство (Отчет по лицензионному контролю) | H107: STR25-21-2_106 | I107: часть 2 статьи 7.21 КоАП РФ | J107: единиц | K107: ='к заполнению'!C138 -> 0 | O107: ='к заполнению'!DD138 -> 0 | P107: 106 | Q107: 1 | X107: Да | Y107: Диапазон значений | Z107: Число целое от 0 до 100000
A108: STR25-21-2 | B108: Информация о деятельности органов государственного жилищного надзора | C108: ='к заполнению'!$B$11 -> 2026 год, 3 квартал | D108: Группа показателей | E108: Всего рассмотрено дел об административных правонарушениях, из них: | F108: Наименование отчета | G108: Административное производство (Отчет по лицензионному контролю) | H108: STR25-21-2_107 | I108: статья 7.22 КоАП РФ | J108: единиц | K108: ='к заполнению'!C139 -> 0 | P108: 107 | Q108: 1 | X108: Да | Y108: Диапазон значений | Z108: Число целое от 0 до 100000
A109: STR25-21-2 | B109: Информация о деятельности органов государственного жилищного надзора | C109: ='к заполнению'!$B$11 -> 2026 год, 3 квартал | D109: Группа показателей | E109: Всего рассмотрено дел об административных правонарушениях, из них: | F109: Наименование отчета | G109: Административное производство (Отчет по лицензионному контролю) | H109: STR25-21-2_108 | I109: часть 1 статьи 7.23 КоАП РФ | J109: единиц | K109: ='к заполнению'!C140 -> 0 | O109: ='к заполнению'!DD140 -> 0 | P109: 108 | Q109: 1 | X109: Да | Y109: Диапазон значений | Z109: Число целое от 0 до 100000
A110: STR25-21-2 | B110: Информация о деятельности органов государственного жилищного надзора | C110: ='к заполнению'!$B$11 -> 2026 год, 3 квартал | D110: Группа показателей | E110: Всего рассмотрено дел об административных правонарушениях, из них: | F110: Наименование отчета | G110: Административное производство (Отчет по лицензионному контролю) | H110: STR25-21-2_109 | I110: часть 2 статьи 7.23 КоАП РФ | J110: единиц | K110: ='к заполнению'!C141 -> 0 | O110: ='к заполнению'!DD141 -> 0 | P110: 109 | Q110: 1 | X110: Да | Y110: Диапазон значений | Z110: Число целое от 0 до 100000
A111: STR25-21-2 | B111: Информация о деятельности органов государственного жилищного надзора | C111: ='к заполнению'!$B$11 -> 2026 год, 3 квартал | D111: Группа показателей | E111: Всего рассмотрено дел об административных правонарушениях, из них: | F111: Наименование отчета | G111: Административное производство (Отчет по лицензионному контролю) | H111: STR25-21-2_110 | I111: часть 3 статьи 7.23 КоАП РФ | J111: единиц | K111: ='к заполнению'!C142 -> 0 | O111: ='к заполнению'!DD142 -> 0 | P111: 110 | Q111: 1 | X111: Да | Y111: Диапазон значений | Z111: Число целое от 0 до 100000
A112: STR25-21-2 | B112: Информация о деятельности органов государственного жилищного надзора | C112: ='к заполнению'!$B$11 -> 2026 год, 3 квартал | D112: Группа показателей | E112: Всего рассмотрено дел об административных правонарушениях, из них: | F112: Наименование отчета | G112: Административное производство (Отчет по лицензионному контролю) | H112: STR25-21-2_111 | I112: часть 1 статьи 7.23.2 КоАП РФ | J112: единиц | K112: ='к заполнению'!C143 -> 1 | O112: ='к заполнению'!DD143 -> 0 | P112: 111 | Q112: 1 | X112: Да | Y112: Диапазон значений | Z112: Число целое от 0 до 100000
A113: STR25-21-2 | B113: Информация о деятельности органов государственного жилищного надзора | C113: ='к заполнению'!$B$11 -> 2026 год, 3 квартал | D113: Группа показателей | E113: Всего рассмотрено дел об административных правонарушениях, из них: | F113: Наименование отчета | G113: Административное производство (Отчет по лицензионному контролю) | H113: STR25-21-2_112 | I113: часть 1 статьи 7.23.3 КоАП РФ | J113: единиц | K113: ='к заполнению'!C144 -> 9 | O113: ='к заполнению'!DD144 -> 0 | P113: 112 | Q113: 1 | X113: Да | Y113: Диапазон значений | Z113: Число целое от 0 до 100000
A114: STR25-21-2 | B114: Информация о деятельности органов государственного жилищного надзора | C114: ='к заполнению'!$B$11 -> 2026 год, 3 квартал | D114: Группа показателей | E114: Всего рассмотрено дел об административных правонарушениях, из них: | F114: Наименование отчета | G114: Административное производство (Отчет по лицензионному контролю) | H114: STR25-21-2_113 | I114: часть 2 статьи 7.23.3 КоАП РФ | J114: единиц | K114: ='к заполнению'!C145 -> 0 | O114: ='к заполнению'!DD145 -> 0 | P114: 113 | Q114: 1 | X114: Да | Y114: Диапазон значений | Z114: Число целое от 0 до 100000
A115: STR25-21-2 | B115: Информация о деятельности органов государственного жилищного надзора | C115: ='к заполнению'!$B$11 -> 2026 год, 3 квартал | D115: Группа показателей | E115: Всего рассмотрено дел об административных правонарушениях, из них: | F115: Наименование отчета | G115: Административное производство (Отчет по лицензионному контролю) | H115: STR25-21-2_114 | I115: часть 1 статьи 9.5.1 КоАП РФ | J115: единиц | K115: ='к заполнению'!C146 -> 0 | O115: ='к заполнению'!DD146 -> 0 | P115: 114 | Q115: 1 | X115: Да | Y115: Диапазон значений | Z115: Число целое от 0 до 100000
A116: STR25-21-2 | B116: Информация о деятельности органов государственного жилищного надзора | C116: ='к заполнению'!$B$11 -> 2026 год, 3 квартал | D116: Группа показателей | E116: Всего рассмотрено дел об административных правонарушениях, из них: | F116: Наименование отчета | G116: Административное производство (Отчет по лицензионному контролю) | H116: STR25-21-2_115 | I116: часть 2 статьи 9.5.1 КоАП РФ | J116: единиц | K116: ='к заполнению'!C147 -> 0 | O116: ='к заполнению'!DD147 -> 0 | P116: 115 | Q116: 1 | X116: Да | Y116: Диапазон значений | Z116: Число целое от 0 до 100000
A117: STR25-21-2 | B117: Информация о деятельности органов государственного жилищного надзора | C117: ='к заполнению'!$B$11 -> 2026 год, 3 квартал | D117: Группа показателей | E117: Всего рассмотрено дел об административных правонарушениях, из них: | F117: Наименование отчета | G117: Административное производство (Отчет по лицензионному контролю) | H117: STR25-21-2_116 | I117: часть 3 статьи 9.5.1 КоАП РФ | J117: единиц | K117: ='к заполнению'!C148 -> 0 | O117: ='к заполнению'!DD148 -> 0 | P117: 116 | Q117: 1 | X117: Да | Y117: Диапазон значений | Z117: Число целое от 0 до 100000
A118: STR25-21-2 | B118: Информация о деятельности органов государственного жилищного надзора | C118: ='к заполнению'!$B$11 -> 2026 год, 3 квартал | D118: Группа показателей | E118: Всего рассмотрено дел об административных правонарушениях, из них: | F118: Наименование отчета | G118: Административное производство (Отчет по лицензионному контролю) | H118: STR25-21-2_117 | I118: статья 9.13 КоАП РФ | J118: единиц | K118: ='к заполнению'!C149 -> 0 | O118: ='к заполнению'!DD149 -> 0 | P118: 117 | Q118: 1 | X118: Да | Y118: Диапазон значений | Z118: Число целое от 0 до 100000
A119: STR25-21-2 | B119: Информация о деятельности органов государственного жилищного надзора | C119: ='к заполнению'!$B$11 -> 2026 год, 3 квартал | D119: Группа показателей | E119: Всего рассмотрено дел об административных правонарушениях, из них: | F119: Наименование отчета | G119: Административное производство (Отчет по лицензионному контролю) | H119: STR25-21-2_118 | I119: часть 4 статьи 9.16 КоАП РФ | J119: единиц | K119: ='к заполнению'!C150 -> 0 | O119: ='к заполнению'!DD150 -> 0 | P119: 118 | Q119: 1 | X119: Да | Y119: Диапазон значений | Z119: Число целое от 0 до 100000
A120: STR25-21-2 | B120: Информация о деятельности органов государственного жилищного надзора | C120: ='к заполнению'!$B$11 -> 2026 год, 3 квартал | D120: Группа показателей | E120: Всего рассмотрено дел об административных правонарушениях, из них: | F120: Наименование отчета | G120: Административное производство (Отчет по лицензионному контролю) | H120: STR25-21-2_119 | I120: часть 5 статьи 9.16 КоАП РФ | J120: единиц | K120: ='к заполнению'!C151 -> 0 | O120: ='к заполнению'!DD151 -> 0 | P120: 119 | Q120: 1 | X120: Да | Y120: Диапазон значений | Z120: Число целое от 0 до 100000
... A131: STR25-21-2 | B131: Информация о деятельности органов государственного жилищного надзора | C131: ='к заполнению'!$B$11 -> 2026 год, 3 квартал | D131: Группа показателей | E131: Всего рассмотрено дел об административных правонарушениях, из них: | F131: Наименование отчета | G131: Административное производство (Отчет по лицензионному контролю) | H131: STR25-21-2_130 | I131: часть 3 статьи 14.1.3 КоАП РФ | J131: единиц | K131: ='к заполнению'!C162 -> 1 | O131: ='к заполнению'!DD162 -> 0 | P131: 130 | Q131: 1 | X131: Да | Y131: Диапазон значений | Z131: Число целое от 0 до 100000
A132: STR25-21-2 | B132: Информация о деятельности органов государственного жилищного надзора | C132: ='к заполнению'!$B$11 -> 2026 год, 3 квартал | D132: Группа показателей | E132: Всего рассмотрено дел об административных правонарушениях, из них: | F132: Наименование отчета | G132: Административное производство (Отчет по лицензионному контролю) | H132: STR25-21-2_131 | I132: Предъявлено штрафных санкций (по состоянию на отчетный период) | J132: тыс. руб. | L132: ='к заполнению'!C163 -> 9765 | O132: ='к заполнению'!DD163 -> 0 | P132: 131 | Q132: 1 | X132: Да | Y132: Диапазон значений | Z132: Число действительное от 0 до 1000000
A133: STR25-21-2 | B133: Информация о деятельности органов государственного жилищного надзора | C133: ='к заполнению'!$B$11 -> 2026 год, 3 квартал | D133: Группа показателей | E133: Всего рассмотрено дел об административных правонарушениях, из них: | F133: Наименование отчета | G133: Административное производство (Отчет по лицензионному контролю) | H133: STR25-21-2_132 | I133: Получено фактически по штрафным санкциям (по состоянию на отчетный период) | J133: тыс. руб. | L133: ='к заполнению'!C164 -> 3444 | O133: ='к заполнению'!DD164 -> 0 | P133: 132 | Q133: 1 | X133: Да | Y133: Диапазон значений | Z133: Число действительное от 0 до 1000000
A134: STR25-21-2 | B134: Информация о деятельности органов государственного жилищного надзора | C134: ='к заполнению'!$B$11 -> 2026 год, 3 квартал | D134: Группа показателей | E134: Всего рассмотрено дел об административных правонарушениях, из них: | F134: Наименование отчета | G134: Административное производство (Отчет по лицензионному контролю) | H134: STR25-21-2_133 | I134: Количество постановлений по делам об административных правонарушениях, вынесенных органом государственного жилищного надзора, отмененных в порядке главы 30 КоАП РФ | J134: единиц | K134: ='к заполнению'!C165 -> 0 | O134: ='к заполнению'!DD165 -> 0 | P134: 133 | Q134: 1 | X134: Да | Y134: Диапазон значений | Z134: Число целое от 0 до 100000
A135: STR25-21-2 | B135: Информация о деятельности органов государственного жилищного надзора | C135: ='к заполнению'!$B$11 -> 2026 год, 3 квартал | D135: Группа показателей | E135: Всего рассмотрено дел об административных правонарушениях, из них: | F135: Наименование отчета | G135: Административное производство (Отчет по лицензионному контролю) | H135: STR25-21-2_134 | I135: Количество судебных решений, вступивших в законную силу по результатам рассмотрения заявлений управляющих организаций, правоохранительных органов об оспаривании результатов проверок, проведенных в ходе осуществления лицензионного контроля, которыми была подтверждена законность решений, принятых органами государственного жилищного надзора (с нарастающим итогом) | J135: единиц | K135: ='к заполнению'!C166 -> 6 | O135: ='к заполнению'!DD166 -> 0 | P135: 134 | Q135: 1 | X135: Да | Y135: Диапазон значений | Z135: Число целое от 0 до 100000
A136: STR25-21-2 | B136: Информация о деятельности органов государственного жилищного надзора | C136: ='к заполнению'!$B$11 -> 2026 год, 3 квартал | D136: Группа показателей | E136: Всего рассмотрено дел об административных правонарушениях, из них: | F136: Наименование отчета | G136: Административное производство (Отчет по лицензионному контролю) | H136: STR25-21-2_135 | I136: Количество уведомлений об исполнении выданных предостережений о недопустимости нарушения обязательных требований действующего законодательства (по состоянию на отчетный период) | J136: единиц | K136: ='к заполнению'!C167 -> 551 | O136: ='к заполнению'!DD167 -> 0 | P136: 135 | Q136: 1 | X136: Да | Y136: Диапазон значений | Z136: Число целое от 0 до 100000
...

Sheet Справочник
A1: Ежеквартальный
A2: 2025 год, 1 квартал
A3: 2025 год, 2 квартал
A4: 2025 год, 3 квартал
A5: 2025 год, 4 квартал
A6: 2026 год, 1 квартал
A7: 2026 год, 2 квартал
A8: 2026 год, 3 квартал
A9: 2026 год, 4 квартал
A10: 2027 год, 1 квартал
A11: 2027 год, 2 квартал
A12: 2027 год, 3 квартал
... A25: 2030 год, 4 квартал
