Workbook

Sheet к заполнению
A1: Форма для предоставления сведений в Минстрой России
A3: Информация о деятельности органов государственного жилищного надзора
A4: Дополнительные сведения о форме доступны по адресу:
A5: https://tm.minstroyrf.gov.ru/board/ja1pe3a7e5ij
A7: ВАЖНО! Для успешного заполнения формы необходимо: 1. Заполнить все ячейки, отмеченные оранжевым цветом (это ячейки, обязательные к заполнению) 2. При необходимости, заполнить ячейки, отмеченные желтым цветом 3. Убедиться, что на форме отсутсвуют ошибки (в поле ниже указано "Ошибки формы не выявлены, возможна загрузка заполненной формы в ГИС Стройкомплекс.РФ"). Если в поле ниже указано "(!!!) На форме имеются ошибки, требуется их устранение перед отправкой" необходимо скорректирвоать форму. 4. Для корретной работы формы необходимо использовать ПО Р7 Офис / MS Excel последних актуальныхй версий. При работе с формой необходимо включить автоматический пересчет формул (зачастую он уже включен)
A9: =IF(DD9>0,"(!!!) На форме имеются ошибки, требуется их устранение перед отправкой","Ошибки формы не выявлены, возможна загрузка заполненной формы в ГИС Стройкомплекс.РФ") -> Ошибки формы не выявлены, возможна загрузка заполненной формы в ГИС Стройкомплекс.РФ | DD9: =SUM(DD10:DE203) -> 0
A11: Период, за который предоставляется отчет | B11: 2026 год, 3 квартал | DD11: =IFERROR(MATCH(B11,Справочник!A:A,0)*0,1) -> 0
A12: Комментарий к заполненной форме (при необходимости)
A14: Наименование показателя | B14: Единица измерения | C14: Фактическое значение
A15: Отчет деятельности ОГЖН
A16: Нормативная численность работников ГЖИ | B16: единиц | C16: 94 | DD16: =IFERROR(IF(ISBLANK(C16),1,0)+IF(AND(C16>=0,C16<100000),0,1),1) -> 0
A17: Фактическая численность работников ГЖИ
A18: Всего | B18: единиц | C18: 94 | DD18: =IFERROR(IF(ISBLANK(C18),1,0)+IF(AND(C18>=0,C18<100000),0,1),1) -> 0
A19: Из них инспекторов | B19: единиц | C19: 76 | DD19: =IFERROR(IF(ISBLANK(C19),1,0)+IF(AND(C19>=0,C19<100000),0,1),1) -> 0
A20: Площадь жилищного фонда субъекта РФ | B20: тыс. кв. м | C20: 70500 | DD20: =IFERROR(IF(ISBLANK(C20),1,0)+IF(AND(C20>=0,C20<100000000),0,1),1) -> 0
A21: Количество многоквартирных домов, расположенных на территории субъекта РФ | B21: единиц | C21: 15564 | DD21: =IFERROR(IF(ISBLANK(C21),1,0)+IF(AND(C21>=0,C21<100000),0,1),1) -> 0
A22: Количество обследованных жилых домов (за отчетный период) | B22: единиц | C22: 5536 | DD22: =IFERROR(IF(ISBLANK(C22),1,0)+IF(AND(C22>=0,C22<100000),0,1),1) -> 0
A23: Общая площадь обследованных жилых домов (за отчетный период) | B23: тыс. кв. м | C23: 11078 | DD23: =IFERROR(IF(ISBLANK(C23),1,0)+IF(AND(C23>=0,C23<100000000),0,1),1) -> 0
A24: Количество управляющих организаций, товариществ собственников жилья, жилищных кооперативов, осуществляющих деятельность по управлению МКД на территории субъекта РФ
A25: Всего | B25: единиц | C25: =SUM(C26,C27) -> 654 | DD25: =IFERROR(IF(ISBLANK(C25),1,0)+IF(AND(C25>=0,C25<100000),0,1),1) -> 0
A26: Количество управляющих организаций | B26: единиц | C26: 286 | DD26: =IFERROR(IF(ISBLANK(C26),1,0)+IF(AND(C26>=0,C26<100000),0,1),1) -> 0
A27: Товариществ собственников жилья, жилищных кооперативов, осуществляющих деятельность по управлению МКД на территории субъекта РФ | B27: единиц | C27: 368 | DD27: =IFERROR(IF(ISBLANK(C27),1,0)+IF(AND(C27>=0,C27<100000),0,1),1) -> 0
A28: Количество представлений, внесенных органу государственного жилищного надзора в ходе прокурорской проверки
A29: Всего | B29: единиц | C29: 0 | DD29: =IFERROR(IF(ISBLANK(C29),1,0)+IF(AND(C29>=0,C29<100000),0,1),1) -> 0
A30: Количество представлений, по результатам рассмотрения которых должностные лица органа государственного жилищного надзора (контроля) привлечены к дисциплинарной ответственности (за отчетный период) | B30: единиц | C30: 0 | DD30: =IFERROR(IF(ISBLANK(C30),1,0)+IF(AND(C30>=0,C30<100000),0,1),1) -> 0
A31: Отчет по жилищному надзору и лицензионному контролю
A32: Тематика и количество поступивших обращений за отчетный период, в том числе количество обращений граждан и юр. лиц по подготовке жилищного фонда к ОЗП
C33: Отчет по лицензионному контролю | D33: Отчет по жилищному надзору
A34: Количество поступивших обращений за отчетный период, из них: | B34: единиц | C34: =SUM(C35,C36,C38,C39,C40,C41,C42,C43) -> 5766 | D34: =SUM(D35,D36,D38,D39,D40,D41,D42,D43) -> 1080 | DD34: =IFERROR(IF(ISBLANK(C34),1,0)+IF(AND(C34>=0,C34<100000),0,1),1) -> 0 | DE34: =IFERROR(IF(ISBLANK(D34),1,0)+IF(AND(D34>=0,D34<100000),0,1),1) -> 0
A35: по вопросам нарушения правил и норм технической эксплуатации жилищного фонда | B35: единиц | C35: 4285 | D35: 427 | DD35: =IFERROR(IF(ISBLANK(C35),1,0)+IF(AND(C35>=0,C35<100000),0,1),1) -> 0 | DE35: =IFERROR(IF(ISBLANK(D35),1,0)+IF(AND(D35>=0,D35<100000),0,1),1) -> 0
A36: по вопросам некачественного предоставления населению коммунальных услуг | B36: единиц | C36: 577 | D36: 204 | DD36: =IFERROR(IF(ISBLANK(C36),1,0)+IF(AND(C36>=0,C36<100000),0,1),1) -> 0 | DE36: =IFERROR(IF(ISBLANK(D36),1,0)+IF(AND(D36>=0,D36<100000),0,1),1) -> 0
A37: в том числе в связи с нарушением качества предоставления коммунальной услуги по горячему водоснабжению (не входит в общую сумму поступивших обращений) | B37: единиц | C37: 124 | D37: 28 | DD37: =IFERROR(IF(ISBLANK(C37),1,0)+IF(AND(C37>=0,C37<100000),0,1),1) -> 0 | DE37: =IFERROR(IF(ISBLANK(D37),1,0)+IF(AND(D37>=0,D37<100000),0,1),1) -> 0
A38: по вопросам нарушения требований законодательства о раскрытии информации | B38: единиц | C38: 205 | D38: 114 | DD38: =IFERROR(IF(ISBLANK(C38),1,0)+IF(AND(C38>=0,C38<100000),0,1),1) -> 0 | DE38: =IFERROR(IF(ISBLANK(D38),1,0)+IF(AND(D38>=0,D38<100000),0,1),1) -> 0
A39: по вопросам нарушения порядка расчета внесения платы за жилищно-коммунальные услуги | B39: единиц | C39: 670 | D39: 113 | DD39: =IFERROR(IF(ISBLANK(C39),1,0)+IF(AND(C39>=0,C39<100000),0,1),1) -> 0 | DE39: =IFERROR(IF(ISBLANK(D39),1,0)+IF(AND(D39>=0,D39<100000),0,1),1) -> 0
A40: по вопросам нарушения правил технической эксплуатации внутридомового газового оборудования | B40: единиц | C40: 5 | D40: 23 | DD40: =IFERROR(IF(ISBLANK(C40),1,0)+IF(AND(C40>=0,C40<100000),0,1),1) -> 0 | DE40: =IFERROR(IF(ISBLANK(D40),1,0)+IF(AND(D40>=0,D40<100000),0,1),1) -> 0
A41: по вопросам нарушения правил управления многоквартирными домами | B41: единиц | C41: 1 | D41: 0 | DD41: =IFERROR(IF(ISBLANK(C41),1,0)+IF(AND(C41>=0,C41<100000),0,1),1) -> 0 | DE41: =IFERROR(IF(ISBLANK(D41),1,0)+IF(AND(D41>=0,D41<100000),0,1),1) -> 0
A42: по вопросам подготовки и прохождения отопительного периода | B42: единиц | C42: 0 | D42: 0 | DD42: =IFERROR(IF(ISBLANK(C42),1,0)+IF(AND(C42>=0,C42<100000),0,1),1) -> 0 | DE42: =IFERROR(IF(ISBLANK(D42),1,0)+IF(AND(D42>=0,D42<100000),0,1),1) -> 0
A43: прочие вопросы | B43: единиц | C43: 23 | D43: 199 | DD43: =IFERROR(IF(ISBLANK(C43),1,0)+IF(AND(C43>=0,C43<100000),0,1),1) -> 0 | DE43: =IFERROR(IF(ISBLANK(D43),1,0)+IF(AND(D43>=0,D43<100000),0,1),1) -> 0
A44: Количество проведенных проверок КНМ, в рамках жилищного надзора и лицензионного контроля за отчетный период
C45: Отчет по лицензионному контролю | D45: Отчет по жилищному надзору
...

Sheet БД
A1: report_id | B1: report_name | C1: period_value | D1: row_context_id | E1: row_context_value | F1: column_context_id | G1: column_context_value | H1: kpi_id | I1: kpi_name | J1: uom_id | K1: int_value | L1: numeric_value | M1: text_value | N1: dttm_value | O1: error_count | P1: row_num | Q1: column_num | X1: Обязательное поле | Y1: Тип ФЛК | Z1: Бизнес описание ФЛК
A2: STR25-21-2 | B2: Информация о деятельности органов государственного жилищного надзора | C2: ='к заполнению'!$B$11 -> 2026 год, 3 квартал | D2: Группа показателей | E2: Нормативная численность работников ГЖИ | F2: Наименование отчета | G2: Отчет деятельности ОГЖН | H2: STR25-21-2_1 | I2: Нормативная численность работников ГЖИ | J2: единиц | K2: ='к заполнению'!C16 -> 94 | O2: ='к заполнению'!DD16 -> 0 | P2: 1 | Q2: 1 | X2: Да | Y2: Диапазон значений | Z2: Число целое от 0 до 100000
A3: STR25-21-2 | B3: Информация о деятельности органов государственного жилищного надзора | C3: ='к заполнению'!$B$11 -> 2026 год, 3 квартал | D3: Группа показателей | E3: Фактическая численность работников ГЖИ | F3: Наименование отчета | G3: Отчет деятельности ОГЖН | H3: STR25-21-2_2 | I3: Всего | J3: единиц | K3: ='к заполнению'!C18 -> 94 | O3: ='к заполнению'!DD18 -> 0 | P3: 2 | Q3: 1 | X3: Да | Y3: Диапазон значений | Z3: Число целое от 0 до 100000
A4: STR25-21-2 | B4: Информация о деятельности органов государственного жилищного надзора | C4: ='к заполнению'!$B$11 -> 2026 год, 3 квартал | D4: Группа показателей | E4: Фактическая численность работников ГЖИ | F4: Наименование отчета | G4: Отчет деятельности ОГЖН | H4: STR25-21-2_3 | I4: Из них инспекторов | J4: единиц | K4: ='к заполнению'!C19 -> 76 | O4: ='к заполнению'!DD19 -> 0 | P4: 3 | Q4: 1 | X4: Да | Y4: Диапазон значений | Z4: Число целое от 0 до 100000
A5: STR25-21-2 | B5: Информация о деятельности органов государственного жилищного надзора | C5: ='к заполнению'!$B$11 -> 2026 год, 3 квартал | D5: Группа показателей | E5: Фактическая численность работников ГЖИ | F5: Наименование отчета | G5: Отчет деятельности ОГЖН | H5: STR25-21-2_4 | I5: Площадь жилищного фонда субъекта РФ | J5: тыс. кв. м | L5: ='к заполнению'!C20 -> 70500 | O5: ='к заполнению'!DD20 -> 0 | P5: 4 | Q5: 1 | X5: Да | Y5: Диапазон значений | Z5: Число действительное от 0 до 1000000
A6: STR25-21-2 | B6: Информация о деятельности органов государственного жилищного надзора | C6: ='к заполнению'!$B$11 -> 2026 год, 3 квартал | D6: Группа показателей | E6: Фактическая численность работников ГЖИ | F6: Наименование отчета | G6: Отчет деятельности ОГЖН | H6: STR25-21-2_5 | I6: Количество многоквартирных домов, расположенных на территории субъекта РФ | J6: единиц | K6: ='к заполнению'!C21 -> 15564 | O6: ='к заполнению'!DD21 -> 0 | P6: 5 | Q6: 1 | X6: Да | Y6: Диапазон значений | Z6: Число целое от 0 до 100000
A7: STR25-21-2 | B7: Информация о деятельности органов государственного жилищного надзора | C7: ='к заполнению'!$B$11 -> 2026 год, 3 квартал | D7: Группа показателей | E7: Фактическая численность работников ГЖИ | F7: Наименование отчета | G7: Отчет деятельности ОГЖН | H7: STR25-21-2_6 | I7: Количество обследованных жилых домов (за отчетный период) | J7: единиц | K7: ='к заполнению'!C22 -> 5536 | O7: ='к заполнению'!DD22 -> 0 | P7: 6 | Q7: 1 | X7: Да | Y7: Диапазон значений | Z7: Число целое от 0 до 100000
A8: STR25-21-2 | B8: Информация о деятельности органов государственного жилищного надзора | C8: ='к заполнению'!$B$11 -> 2026 год, 3 квартал | D8: Группа показателей | E8: Фактическая численность работников ГЖИ | F8: Наименование отчета | G8: Отчет деятельности ОГЖН | H8: STR25-21-2_7 | I8: Общая площадь обследованных жилых домов (за отчетный период) | J8: тыс. кв. м | L8: ='к заполнению'!C23 -> 11078 | O8: ='к заполнению'!DD23 -> 0 | P8: 7 | Q8: 1 | X8: Да | Y8: Диапазон значений | Z8: Число действительное от 0 до 1000000
A9: STR25-21-2 | B9: Информация о деятельности органов государственного жилищного надзора | C9: ='к заполнению'!$B$11 -> 2026 год, 3 квартал | D9: Группа показателей | E9: Количество управляющих организаций, товариществ собственников жилья, жилищных кооперативов, осуществляющих деятельность по управлению МКД на территории субъекта РФ | F9: Наименование отчета | G9: Отчет деятельности ОГЖН | H9: STR25-21-2_8 | I9: Всего | J9: единиц | K9: ='к заполнению'!C25 -> 654 | O9: ='к заполнению'!DD25 -> 0 | P9: 8 | Q9: 1 | X9: Да | Y9: Диапазон значений | Z9: Число целое от 0 до 100000
A10: STR25-21-2 | B10: Информация о деятельности органов государственного жилищного надзора | C10: ='к заполнению'!$B$11 -> 2026 год, 3 квартал | D10: Группа показателей | E10: Количество управляющих организаций, товариществ собственников жилья, жилищных кооперативов, осуществляющих деятельность по управлению МКД на территории субъекта РФ | F10: Наименование отчета | G10: Отчет деятельности ОГЖН | H10: STR25-21-2_9 | I10: Количество управляющих организаций | J10: единиц | K10: ='к заполнению'!C26 -> 286 | O10: ='к заполнению'!DD26 -> 0 | P10: 9 | Q10: 1 | X10: Да | Y10: Диапазон значений | Z10: Число целое от 0 до 100000
A11: STR25-21-2 | B11: Информация о деятельности органов государственного жилищного надзора | C11: ='к заполнению'!$B$11 -> 2026 год, 3 квартал | D11: Группа показателей | E11: Количество управляющих организаций, товариществ собственников жилья, жилищных кооперативов, осуществляющих деятельность по управлению МКД на территории субъекта РФ | F11: Наименование отчета | G11: Отчет деятельности ОГЖН | H11: STR25-21-2_10 | I11: Товариществ собственников жилья, жилищных кооперативов, осуществляющих деятельность по управлению МКД на территории субъекта РФ | J11: единиц | K11: ='к заполнению'!C27 -> 368 | O11: ='к заполнению'!DD27 -> 0 | P11: 10 | Q11: 1 | X11: Да | Y11: Диапазон значений | Z11: Число целое от 0 до 100000
A12: STR25-21-2 | B12: Информация о деятельности органов государственного жилищного надзора | C12: ='к заполнению'!$B$11 -> 2026 год, 3 квартал | D12: Группа показателей | E12: Количество представлений, внесенных органу государственного жилищного надзора в ходе прокурорской проверки | F12: Наименование отчета | G12: Отчет деятельности ОГЖН | H12: STR25-21-2_11 | I12: Всего | J12: единиц | K12: ='к заполнению'!C29 -> 0 | O12: ='к заполнению'!DD29 -> 0 | P12: 11 | Q12: 1 | X12: Да | Y12: Диапазон значений | Z12: Число целое от 0 до 100000
A13: STR25-21-2 | B13: Информация о деятельности органов государственного жилищного надзора | C13: ='к заполнению'!$B$11 -> 2026 год, 3 квартал | D13: Группа показателей | E13: Количество представлений, внесенных органу государственного жилищного надзора в ходе прокурорской проверки | F13: Наименование отчета | G13: Отчет деятельности ОГЖН | H13: STR25-21-2_12 | I13: Количество представлений, по результатам рассмотрения которых должностные лица органа государственного жилищного надзора (контроля) привлечены к дисциплинарной ответственности (за отчетный период) | J13: единиц | K13: ='к заполнению'!C30 -> 0 | O13: ='к заполнению'!DD30 -> 0 | P13: 12 | Q13: 1 | X13: Да | Y13: Диапазон значений | Z13: Число целое от 0 до 100000
A14: STR25-21-2 | B14: Информация о деятельности органов государственного жилищного надзора | C14: ='к заполнению'!$B$11 -> 2026 год, 3 квартал | D14: Группа показателей | E14: Тематика и количество поступивших обращений за отчетный период, в том числе количество обращений граждан и юр. лиц по подготовке жилищного фонда к ОЗП | F14: Наименование отчета | G14: Отчет по лицензионному контролю | H14: STR25-21-2_13 | I14: Количество поступивших обращений за отчетный период, из них: | J14: единиц | K14: ='к заполнению'!C34 -> 5766 | O14: ='к заполнению'!DD34 -> 0 | P14: 13 | Q14: 1 | X14: Да | Y14: Диапазон значений | Z14: Число целое от 0 до 100000
A15: STR25-21-2 | B15: Информация о деятельности органов государственного жилищного надзора | C15: ='к заполнению'!$B$11 -> 2026 год, 3 квартал | D15: Группа показателей | E15: Тематика и количество поступивших обращений за отчетный период, в том числе количество обращений граждан и юр. лиц по подготовке жилищного фонда к ОЗП | F15: Наименование отчета | G15: Отчет по лицензионному контролю | H15: STR25-21-2_14 | I15: по вопросам нарушения правил и норм технической эксплуатации жилищного фонда | J15: единиц | K15: ='к заполнению'!C35 -> 4285 | O15: ='к заполнению'!DD35 -> 0 | P15: 14 | Q15: 1 | X15: Да | Y15: Диапазон значений | Z15: Число целое от 0 до 100000
A16: STR25-21-2 | B16: Информация о деятельности органов государственного жилищного надзора | C16: ='к заполнению'!$B$11 -> 2026 год, 3 квартал | D16: Группа показателей | E16: Тематика и количество поступивших обращений за отчетный период, в том числе количество обращений граждан и юр. лиц по подготовке жилищного фонда к ОЗП | F16: Наименование отчета | G16: Отчет по лицензионному контролю | H16: STR25-21-2_15 | I16: по вопросам некачественного предоставления населению коммунальных услуг | J16: единиц | K16: ='к заполнению'!C36 -> 577 | O16: ='к заполнению'!DD36 -> 0 | P16: 15 | Q16: 1 | X16: Да | Y16: Диапазон значений | Z16: Число целое от 0 до 100000
A17: STR25-21-2 | B17: Информация о деятельности органов государственного жилищного надзора | C17: ='к заполнению'!$B$11 -> 2026 год, 3 квартал | D17: Группа показателей | E17: Тематика и количество поступивших обращений за отчетный период, в том числе количество обращений граждан и юр. лиц по подготовке жилищного фонда к ОЗП | F17: Наименование отчета | G17: Отчет по лицензионному контролю | H17: STR25-21-2_16 | I17: в том числе в связи с нарушением качества предоставления коммунальной услуги по горячему водоснабжению | J17: единиц | K17: ='к заполнению'!C37 -> 124 | O17: ='к заполнению'!DD37 -> 0 | P17: 16 | Q17: 1 | X17: Да | Y17: Диапазон значений | Z17: Число целое от 0 до 100000
A18: STR25-21-2 | B18: Информация о деятельности органов государственного жилищного надзора | C18: ='к заполнению'!$B$11 -> 2026 год, 3 квартал | D18: Группа показателей | E18: Тематика и количество поступивших обращений за отчетный период, в том числе количество обращений граждан и юр. лиц по подготовке жилищного фонда к ОЗП | F18: Наименование отчета | G18: Отчет по лицензионному контролю | H18: STR25-21-2_17 | I18: по вопросам нарушения требований законодательства о раскрытии информации | J18: единиц | K18: ='к заполнению'!C38 -> 205 | O18: ='к заполнению'!DD38 -> 0 | P18: 17 | Q18: 1 | X18: Да | Y18: Диапазон значений | Z18: Число целое от 0 до 100000
A19: STR25-21-2 | B19: Информация о деятельности органов государственного жилищного надзора | C19: ='к заполнению'!$B$11 -> 2026 год, 3 квартал | D19: Группа показателей | E19: Тематика и количество поступивших обращений за отчетный период, в том числе количество обращений граждан и юр. лиц по подготовке жилищного фонда к ОЗП | F19: Наименование отчета | G19: Отчет по лицензионному контролю | H19: STR25-21-2_18 | I19: по вопросам нарушения порядка расчета внесения платы за жилищно-коммунальные услуги | J19: единиц | K19: ='к заполнению'!C39 -> 670 | O19: ='к заполнению'!DD39 -> 0 | P19: 18 | Q19: 1 | X19: Да | Y19: Диапазон значений | Z19: Число целое от 0 до 100000
A20: STR25-21-2 | B20: Информация о деятельности органов государственного жилищного надзора | C20: ='к заполнению'!$B$11 -> 2026 год, 3 квартал | D20: Группа показателей | E20: Тематика и количество поступивших обращений за отчетный период, в том числе количество обращений граждан и юр. лиц по подготовке жилищного фонда к ОЗП | F20: Наименование отчета | G20: Отчет по лицензионному контролю | H20: STR25-21-2_19 | I20: по вопросам нарушения правил технической эксплуатации внутридомового газового оборудования | J20: единиц | K20: ='к заполнению'!C40 -> 5 | O20: ='к заполнению'!DD40 -> 0 | P20: 19 | Q20: 1 | X20: Да | Y20: Диапазон значений | Z20: Число целое от 0 до 100000
A21: STR25-21-2 | B21: Информация о деятельности органов государственного жилищного надзора | C21: ='к заполнению'!$B$11 -> 2026 год, 3 квартал | D21: Группа показателей | E21: Тематика и количество поступивших обращений за отчетный период, в том числе количество обращений граждан и юр. лиц по подготовке жилищного фонда к ОЗП | F21: Наименование отчета | G21: Отчет по лицензионному контролю | H21: STR25-21-2_20 | I21: по вопросам нарушения правил управления многоквартирными домами | J21: единиц | K21: ='к заполнению'!C41 -> 1 | O21: ='к заполнению'!DD41 -> 0 | P21: 20 | Q21: 1 | X21: Да | Y21: Диапазон значений | Z21: Число целое от 0 до 100000
A22: STR25-21-2 | B22: Информация о деятельности органов государственного жилищного надзора | C22: ='к заполнению'!$B$11 -> 2026 год, 3 квартал | D22: Группа показателей | E22: Тематика и количество поступивших обращений за отчетный период, в том числе количество обращений граждан и юр. лиц по подготовке жилищного фонда к ОЗП | F22: Наименование отчета | G22: Отчет по лицензионному контролю | H22: STR25-21-2_21 | I22: по вопросам подготовки и прохождения отопительного периода | J22: единиц | K22: ='к заполнению'!C42 -> 0 | O22: ='к заполнению'!DD42 -> 0 | P22: 21 | Q22: 1 | X22: Да | Y22: Диапазон значений | Z22: Число целое от 0 до 100000
A23: STR25-21-2 | B23: Информация о деятельности органов государственного жилищного надзора | C23: ='к заполнению'!$B$11 -> 2026 год, 3 квартал | D23: Группа показателей | E23: Тематика и количество поступивших обращений за отчетный период, в том числе количество обращений граждан и юр. лиц по подготовке жилищного фонда к ОЗП | F23: Наименование отчета | G23: Отчет по лицензионному контролю | H23: STR25-21-2_22 | I23: прочие вопросы | J23: единиц | K23: ='к заполнению'!C43 -> 23 | O23: ='к заполнению'!DD43 -> 0 | P23: 22 | Q23: 1 | X23: Да | Y23: Диапазон значений | Z23: Число целое от 0 до 100000
A24: STR25-21-2 | B24: Информация о деятельности органов государственного жилищного надзора | C24: ='к заполнению'!$B$11 -> 2026 год, 3 квартал | D24: Группа показателей | E24: Количество проведенных проверок КНМ, в рамках жилищного надзора и лицензионного контроля за отчетный период | F24: Наименование отчета | G24: Отчет по лицензионному контролю | H24: STR25-21-2_23 | I24: Всего | J24: единиц | K24: ='к заполнению'!C46 -> 226 | O24: ='к заполнению'!DD46 -> 0 | P24: 23 | Q24: 1 | X24: Да | Y24: Диапазон значений | Z24: Число целое от 0 до 100000
A25: STR25-21-2 | B25: Информация о деятельности органов государственного жилищного надзора | C25: ='к заполнению'!$B$11 -> 2026 год, 3 квартал | D25: Группа показателей | E25: Количество проведенных проверок КНМ, в рамках жилищного надзора и лицензионного контроля за отчетный период | F25: Наименование отчета | G25: Отчет по лицензионному контролю | H25: STR25-21-2_24 | I25: Плановых, из них: | J25: единиц | K25: ='к заполнению'!C47 -> 0 | O25: ='к заполнению'!DD47 -> 0 | P25: 24 | Q25: 1 | X25: Да | Y25: Диапазон значений | Z25: Число целое от 0 до 100000
A26: STR25-21-2 | B26: Информация о деятельности органов государственного жилищного надзора | C26: ='к заполнению'!$B$11 -> 2026 год, 3 квартал | D26: Плановых, из них: | E26: Количество проведенных проверок КНМ, в рамках жилищного надзора и лицензионного контроля за отчетный период | F26: Наименование отчета | G26: Отчет по лицензионному контролю | H26: STR25-21-2_25 | I26: Документарные | J26: единиц | K26: ='к заполнению'!C48 -> 0 | O26: ='к заполнению'!DD48 -> 0 | P26: 25 | Q26: 1 | X26: Да | Y26: Диапазон значений | Z26: Число целое от 0 до 100000
A27: STR25-21-2 | B27: Информация о деятельности органов государственного жилищного надзора | C27: ='к заполнению'!$B$11 -> 2026 год, 3 квартал | D27: Плановых, из них: | E27: Количество проведенных проверок КНМ, в рамках жилищного надзора и лицензионного контроля за отчетный период | F27: Наименование отчета | G27: Отчет по лицензионному контролю | H27: STR25-21-2_26 | I27: Выездные | J27: единиц | K27: ='к заполнению'!C49 -> 0 | O27: ='к заполнению'!DD49 -> 0 | P27: 26 | Q27: 1 | X27: Да | Y27: Диапазон значений | Z27: Число целое от 0 до 100000
A28: STR25-21-2 | B28: Информация о деятельности органов государственного жилищного надзора | C28: ='к заполнению'!$B$11 -> 2026 год, 3 квартал | D28: Плановых, из них: | E28: Количество проведенных проверок КНМ, в рамках жилищного надзора и лицензионного контроля за отчетный период | F28: Наименование отчета | G28: Отчет по лицензионному контролю | H28: STR25-21-2_27 | I28: инспекционный визит | J28: единиц | K28: ='к заполнению'!C50 -> 0 | O28: ='к заполнению'!DD50 -> 0 | P28: 27 | Q28: 1 | X28: Да | Y28: Диапазон значений | Z28: Число целое от 0 до 100000
A29: STR25-21-2 | B29: Информация о деятельности органов государственного жилищного надзора | C29: ='к заполнению'!$B$11 -> 2026 год, 3 квартал | D29: Внеплановых, из них: | E29: Количество проведенных проверок КНМ, в рамках жилищного надзора и лицензионного контроля за отчетный период | F29: Наименование отчета | G29: Отчет по лицензионному контролю | H29: STR25-21-2_28 | I29: Внеплановых, из них: | J29: единиц | K29: ='к заполнению'!C51 -> 226 | O29: ='к заполнению'!DD51 -> 0 | P29: 28 | Q29: 1 | X29: Да | Y29: Диапазон значений | Z29: Число целое от 0 до 100000
A30: STR25-21-2 | B30: Информация о деятельности органов государственного жилищного надзора | C30: ='к заполнению'!$B$11 -> 2026 год, 3 квартал | D30: Внеплановых, из них: | E30: Количество проведенных проверок КНМ, в рамках жилищного надзора и лицензионного контроля за отчетный период | F30: Наименование отчета | G30: Отчет по лицензионному контролю | H30: STR25-21-2_29 | I30: Документарные | J30: единиц | K30: ='к заполнению'!C52 -> 12 | O30: ='к заполнению'!DD52 -> 0 | P30: 29 | Q30: 1 | X30: Да | Y30: Диапазон значений | Z30: Число целое от 0 до 100000
A31: STR25-21-2 | B31: Информация о деятельности органов государственного жилищного надзора | C31: ='к заполнению'!$B$11 -> 2026 год, 3 квартал | D31: Внеплановых, из них: | E31: Количество проведенных проверок КНМ, в рамках жилищного надзора и лицензионного контроля за отчетный период | F31: Наименование отчета | G31: Отчет по лицензионному контролю | H31: STR25-21-2_30 | I31: Выездные | J31: единиц | K31: ='к заполнению'!C53 -> 12 | O31: ='к заполнению'!DD53 -> 0 | P31: 30 | Q31: 1 | X31: Да | Y31: Диапазон значений | Z31: Число целое от 0 до 100000
A32: STR25-21-2 | B32: Информация о деятельности органов государственного жилищного надзора | C32: ='к заполнению'!$B$11 -> 2026 год, 3 квартал | D32: Группа показателей | E32: Количество проведенных проверок КНМ, в рамках жилищного надзора и лицензионного контроля за отчетный период | F32: Наименование отчета | G32: Отчет по лицензионному контролю | H32: STR25-21-2_31 | I32: инспекционный визит | J32: единиц | K32: ='к заполнению'!C54 -> 202 | O32: ='к заполнению'!DD54 -> 0 | P32: 31 | Q32: 1 | X32: Да | Y32: Диапазон значений | Z32: Число целое от 0 до 100000
A33: STR25-21-2 | B33: Информация о деятельности органов государственного жилищного надзора | C33: ='к заполнению'!$B$11 -> 2026 год, 3 квартал | D33: Группа показателей | E33: Количество проведенных профилактические мероприятия в рамках жилищного надзора и лицензионного контроля за отчетный период, из них | F33: Наименование отчета | G33: Отчет по лицензионному контролю | H33: STR25-21-2_32 | I33: информирование | J33: единиц | K33: ='к заполнению'!C57 -> 368 | O33: ='к заполнению'!DD57 -> 0 | P33: 32 | Q33: 1 | X33: Да | Y33: Диапазон значений | Z33: Число целое от 0 до 100000
A34: STR25-21-2 | B34: Информация о деятельности органов государственного жилищного надзора | C34: ='к заполнению'!$B$11 -> 2026 год, 3 квартал | D34: Группа показателей | E34: Количество проведенных профилактические мероприятия в рамках жилищного надзора и лицензионного контроля за отчетный период, из них | F34: Наименование отчета | G34: Отчет по лицензионному контролю | H34: STR25-21-2_33 | I34: обобщение правоприменительной практики; | J34: единиц | K34: ='к заполнению'!C58 -> 0 | O34: ='к заполнению'!DD58 -> 0 | P34: 33 | Q34: 1 | X34: Да | Y34: Диапазон значений | Z34: Число целое от 0 до 100000
A35: STR25-21-2 | B35: Информация о деятельности органов государственного жилищного надзора | C35: ='к заполнению'!$B$11 -> 2026 год, 3 квартал | D35: Группа показателей | E35: Количество проведенных профилактические мероприятия в рамках жилищного надзора и лицензионного контроля за отчетный период, из них | F35: Наименование отчета | G35: Отчет по лицензионному контролю | H35: STR25-21-2_34 | I35: объявление предостережения | J35: единиц | K35: ='к заполнению'!C59 -> 679 | O35: ='к заполнению'!DD59 -> 0 | P35: 34 | Q35: 1 | X35: Да | Y35: Диапазон значений | Z35: Число целое от 0 до 100000
A36: STR25-21-2 | B36: Информация о деятельности органов государственного жилищного надзора | C36: ='к заполнению'!$B$11 -> 2026 год, 3 квартал | D36: Группа показателей | E36: Количество проведенных профилактические мероприятия в рамках жилищного надзора и лицензионного контроля за отчетный период, из них | F36: Наименование отчета | G36: Отчет по лицензионному контролю | H36: STR25-21-2_35 | I36: консультирование | J36: единиц | K36: ='к заполнению'!C60 -> 272 | O36: ='к заполнению'!DD60 -> 0 | P36: 35 | Q36: 1 | X36: Да | Y36: Диапазон значений | Z36: Число целое от 0 до 100000
A37: STR25-21-2 | B37: Информация о деятельности органов государственного жилищного надзора | C37: ='к заполнению'!$B$11 -> 2026 год, 3 квартал | D37: Группа показателей | E37: Количество проведенных профилактические мероприятия в рамках жилищного надзора и лицензионного контроля за отчетный период, из них | F37: Наименование отчета | G37: Отчет по лицензионному контролю | H37: STR25-21-2_36 | I37: профилактический визит | J37: единиц | K37: ='к заполнению'!C61 -> 1 | O37: ='к заполнению'!DD61 -> 0 | P37: 36 | Q37: 1 | X37: Да | Y37: Диапазон значений | Z37: Число целое от 0 до 100000
A38: STR25-21-2 | B38: Информация о деятельности органов государственного жилищного надзора | C38: ='к заполнению'!$B$11 -> 2026 год, 3 квартал | D38: Группа показателей | E38: Количество проведенных профилактические мероприятия в рамках жилищного надзора и лицензионного контроля за отчетный период, из них | F38: Наименование отчета | G38: Отчет по лицензионному контролю | H38: STR25-21-2_37 | I38: обязательный профилактический визит | J38: единиц | K38: ='к заполнению'!C62 -> 0 | O38: ='к заполнению'!DD62 -> 0 | P38: 37 | Q38: 1 | X38: Да | Y38: Диапазон значений | Z38: Число целое от 0 до 100000
A39: STR25-21-2 | B39: Информация о деятельности органов государственного жилищного надзора | C39: ='к заполнению'!$B$11 -> 2026 год, 3 квартал | D39: Группа показателей | E39: Количество выявленных нарушений (за отчетный период) | F39: Наименование отчета | G39: Отчет по лицензионному контролю | H39: STR25-21-2_38 | I39: Всего | J39: единиц | K39: ='к заполнению'!C65 -> 486 | O39: ='к заполнению'!DD65 -> 0 | P39: 38 | Q39: 1 | X39: Да | Y39: Диапазон значений | Z39: Число целое от 0 до 100000
A40: STR25-21-2 | B40: Информация о деятельности органов государственного жилищного надзора | C40: ='к заполнению'!$B$11 -> 2026 год, 3 квартал | D40: Группа показателей | E40: Количество выявленных нарушений (за отчетный период) | F40: Наименование отчета | G40: Отчет по лицензионному контролю | H40: STR25-21-2_39 | I40: Правил и норм технической эксплуатации жилищного фонда | J40: единиц | K40: ='к заполнению'!C66 -> 306 | O40: ='к заполнению'!DD66 -> 0 | P40: 39 | Q40: 1 | X40: Да | Y40: Диапазон значений | Z40: Число целое от 0 до 100000
...

Sheet Справочник
A1: Ежеквартальный
A2: 2025 год, 1 квартал
A3: 2025 год, 2 квартал
A4: 2025 год, 3 квартал
A5: 2025 год, 4 квартал
A6: 2026 год, 1 квартал
A7: 2026 год, 2 квартал
A8: 2026 год, 3 квартал
A9: 2026 год, 4 квартал
A10: 2027 год, 1 квартал
A11: 2027 год, 2 квартал
A12: 2027 год, 3 квартал
... A25: 2030 год, 4 квартал
